BEGIN:VCALENDAR
VERSION:2.0
PRODID:-//Nomea - ECPv6.15.20//NONSGML v1.0//EN
CALSCALE:GREGORIAN
METHOD:PUBLISH
X-ORIGINAL-URL:https://www.nomeaeventi.it
X-WR-CALDESC:Eventi per Nomea
REFRESH-INTERVAL;VALUE=DURATION:PT1H
X-Robots-Tag:noindex
X-PUBLISHED-TTL:PT1H
BEGIN:VTIMEZONE
TZID:Europe/Rome
BEGIN:DAYLIGHT
TZOFFSETFROM:+0100
TZOFFSETTO:+0200
TZNAME:CEST
DTSTART:20240331T010000
END:DAYLIGHT
BEGIN:STANDARD
TZOFFSETFROM:+0200
TZOFFSETTO:+0100
TZNAME:CET
DTSTART:20241027T010000
END:STANDARD
BEGIN:DAYLIGHT
TZOFFSETFROM:+0100
TZOFFSETTO:+0200
TZNAME:CEST
DTSTART:20250330T010000
END:DAYLIGHT
BEGIN:STANDARD
TZOFFSETFROM:+0200
TZOFFSETTO:+0100
TZNAME:CET
DTSTART:20251026T010000
END:STANDARD
BEGIN:DAYLIGHT
TZOFFSETFROM:+0100
TZOFFSETTO:+0200
TZNAME:CEST
DTSTART:20260329T010000
END:DAYLIGHT
BEGIN:STANDARD
TZOFFSETFROM:+0200
TZOFFSETTO:+0100
TZNAME:CET
DTSTART:20261025T010000
END:STANDARD
END:VTIMEZONE
BEGIN:VEVENT
DTSTART;VALUE=DATE:20251108
DTEND;VALUE=DATE:20251109
DTSTAMP:20260424T011836
CREATED:20251018T152946Z
LAST-MODIFIED:20251105T112516Z
UID:19672674-1762560000-1762646399@www.nomeaeventi.it
SUMMARY:Successi anni '70 e '80 nella cornice neogotica della Chiesa Anglicana di Napoli
DESCRIPTION:La rassegna musicale di NOMEA torna alla Chiesa Anglicana di Napoli con un evento unico e imperdibile dedicato ai grandi successi degli anni ’70 e ’80. \nDopo il successo del primo appuntamento\, la serata si svolge in una cornice straordinaria: la Chiesa Anglicana\, gioiello neogotico nel cuore della città\, che con la sua atmosfera raccolta trasforma ogni nota in un’esperienza intensa e irripetibile. \nNon sarà un semplice concerto ma un viaggio emozionale tra le canzoni che hanno segnato un’epoca\, reinterpretate con passione e originalità\, capaci di toccare le corde più profonde di chi ascolta. \nSul palco\, la carismatica Giovanna Ferrara\, voce potente e magnetica\, capace di coinvolgere il pubblico con emozioni autentiche. Ha esordito sul Teatro Ariston di Sanremo nel programma ‘Ti lascio una canzone’ di Rai 1 e recentemente è stata protagonista con Fiorello al programma ‘E viva il videobox’ a Rai 2.  \nAd accompagnarla\, Fabio Ragucci alla tastiera\, con sonorità raffinate che rendono il concerto un percorso sonoro avvolgente e suggestivo. \nL’esperienza sarà arricchita da un intervento visivo di video mapping sull’antica vetrata\, pensato per esaltare l’atmosfera del luogo e creare una connessione armonica tra musica e spazi \nUn appuntamento imperdibile per chi vuole vivere la musica in una dimensione nuova\, intensa e autentica. \n📍 Luogo: Chiesa Anglicana di Napoli – caratterizzata da architetture neogotiche\, è il luogo ideale per lasciarsi trasportare dalla magia della musica tra colonne slanciate e particolari decorazioni. \n🎶 Organizzazione: L’evento è ideato e prodotto da NOMEA\, brand presente in Italia e all’estero che condivide emozioni con esperienze non convenzionali\, insignita del Premio Nativity in The World all’interno del 30° Concerto dell’Epifania 2025. \n Quando: Sabato 8 novembre 2025\n Orari: h. 17.45 apertura – h. 18.30 inizio concerto\n Ticket: 15€ adulti – gratuito per bambini fino a 5 anni\n Prenotazione obbligatoria: tramite messaggio WhatsApp 3756139180\n Dove: Chiesa Anglicana di Napoli\, Via S. Pasquale 15B\, Napoli \nPrenota adesso\nParcheggi privati a pochi passi dalla chiesa. Facilmente raggiungibile dalla fermata Piazza Amedeo della Linea Metro 2. \n🌐 www.nomeaeventi.it
URL:https://www.nomeaeventi.it/evento/successi-anni-70-e-80-nella-cornice-neogotica-della-chiesa-anglicana-di-napoli/
LOCATION:Chiesa Anglicana di Napoli\, Via San Pasquale a Chiaia 15B\, Napoli
END:VEVENT
END:VCALENDAR