BEGIN:VCALENDAR
VERSION:2.0
PRODID:-//Nomea - ECPv6.15.20//NONSGML v1.0//EN
CALSCALE:GREGORIAN
METHOD:PUBLISH
X-ORIGINAL-URL:https://www.nomeaeventi.it
X-WR-CALDESC:Eventi per Nomea
REFRESH-INTERVAL;VALUE=DURATION:PT1H
X-Robots-Tag:noindex
X-PUBLISHED-TTL:PT1H
BEGIN:VTIMEZONE
TZID:Europe/Rome
BEGIN:DAYLIGHT
TZOFFSETFROM:+0100
TZOFFSETTO:+0200
TZNAME:CEST
DTSTART:20250330T010000
END:DAYLIGHT
BEGIN:STANDARD
TZOFFSETFROM:+0200
TZOFFSETTO:+0100
TZNAME:CET
DTSTART:20251026T010000
END:STANDARD
BEGIN:DAYLIGHT
TZOFFSETFROM:+0100
TZOFFSETTO:+0200
TZNAME:CEST
DTSTART:20260329T010000
END:DAYLIGHT
BEGIN:STANDARD
TZOFFSETFROM:+0200
TZOFFSETTO:+0100
TZNAME:CET
DTSTART:20261025T010000
END:STANDARD
BEGIN:DAYLIGHT
TZOFFSETFROM:+0100
TZOFFSETTO:+0200
TZNAME:CEST
DTSTART:20270328T010000
END:DAYLIGHT
BEGIN:STANDARD
TZOFFSETFROM:+0200
TZOFFSETTO:+0100
TZNAME:CET
DTSTART:20271031T010000
END:STANDARD
END:VTIMEZONE
BEGIN:VEVENT
DTSTART;VALUE=DATE:20260426
DTEND;VALUE=DATE:20260427
DTSTAMP:20260423T171911
CREATED:20260209T190555Z
LAST-MODIFIED:20260421T070110Z
UID:19672750-1777161600-1777247999@www.nomeaeventi.it
SUMMARY:Omaggio ai Beatles: Un Concerto Imperdibile nel cuore di Napoli
DESCRIPTION:Omaggio ai Beatles: Un Concerto Imperdibile nel cuore di Napoli\nDomenica 26 Aprile – NOMEA ritorna al Complesso Monumentale di S.M. La Nova proponendo  un emozionante  viaggio musicale con il concerto Omaggio ai Beatles\, un evento che non puoi perdere \nDopo il grande successo riscosso nelle precedenti edizioni per la prima volta anche in questo meraviglioso sito storico un concerto dedicato alla leggendaria band britannica\, i Beatles\, con una nuova ed emozionante esibizione.  \nNOMEA farà conoscere al pubblico ‘Here Comes the Trio’\, composto da Voce/Chitarra\, Basso e Tastiera\, trio che ha fatto impazzire il pubblico nelle passate edizioni offrendo una performance straordinaria che ripercorre i più grandi successi della band di Liverpool. \nIl Cantante del gruppo sarà Daniele Montuori\, in arte ‘A Smile From Godzilla’ \, artista che con la sua sensibilità e coinvolgente voce è stato ospite a Casa Sanremo con i finalisti di Music For Change; pubblicherà nel 2025 il suo terzo album ‘Lost Tapes’. Nel concerto sarà accompagnato dai musicisti Antonio Paduano e Roberto Guardi.  \nI brani più iconici\, rivivranno in un’interpretazione unica che trasporterà il pubblico in un viaggio musicale senza tempo.  \nNon perdere l’occasione di vivere una serata indimenticabile\, riscoprendo il sound che ha cambiato la storia della musica. Preparatevi a rivivere la magia dei Beatles! \nIl Luogo: uno scrigno di belleza nel cuore di Napoli \nIl Complesso Monumentale di S.M. la Nova è uno scrigno di storia e arte nel cuore di Napoli. Il sito incanta per la bellezza della sua chiesa  famosa per l’imponente soffitto ligneo dorato ed i  suoi chiostri rinascimentali decorati da preziosi affreschi. Un luogo dove l’architettura monumentale e il silenzio dei secoli creano un’atmosfera perfetta per grandi eventi musicali. \nOrganizzazione:  \nNOMEA è una realtà internazionale nata a Napoli specializzata nella produzione di eventi culturali d’eccellenza. Trasforma luoghi prestigiosi in palcoscenici emozionanti\, portando la qualità della produzione artistica italiana verso standard internazionali. Vincitrice del prestigioso  Premio Nativity In The World all’interno del 30° Concerto dell’Epifania  \nI posti sono in esaurimento! \nData e Orari: Domenica 26 Aprile \n\nh. 17.30: Apertura biglietteria e visita libera (senza guida)\nh. 18.30: Inizio concerto\n\nTicket: 20€ Adulti – 10€ Ragazzi (6-17 anni) – Gratuito (0-5 anni) \nPrenotazione Obbligatoria: Messaggio WhatsApp al numero 3756139180 \nPrenota adesso
URL:https://www.nomeaeventi.it/evento/omaggio-ai-beatles-un-concerto-imperdibile-nel-cuore-di-napoli/
LOCATION:Complesso Monumentale Santa Maria La Nova\, Piazza S. Maria la Nova\, 44\, Napoli\, 80134
ATTACH;FMTTYPE=image/jpeg:https://www.nomeaeventi.it/wp-content/uploads/2026/02/Copia-di-Copertina-Evento-FB-.jpg
END:VEVENT
BEGIN:VEVENT
DTSTART;VALUE=DATE:20260509
DTEND;VALUE=DATE:20260510
DTSTAMP:20260423T171911
CREATED:20260204T185522Z
LAST-MODIFIED:20260421T082302Z
UID:19672741-1778284800-1778371199@www.nomeaeventi.it
SUMMARY:Caro Amico Ti Scrivo: Il Grande Finale della Stagione all’Anglicana
DESCRIPTION:“Caro Amico Ti Scrivo”: Il Grande Finale della Stagione all’Anglicana\nIl genio di Lucio Dalla alla Chiesa Anglicana di Napoli. Sabato 9 Maggio 2026\, NOMEA chiude la stagione con una prima assoluta dove la musica e racconti si intrecciano trasformando lo spazio sacro in un tempio di emozioni sonore. \n“Caro Amico Ti Scrivo” mette al centro di tutto le emozioni che trasmettono le canzoni immortali di Lucio Dalla. \nLo spettacolo è concepito come un’immersione totale nel repertorio di Dalla\, dove la musica guida il battito dell’evento. Le armonizzazioni e le interpretazioni sono affidate a un trio di altissimo profilo: \n\nAchille Campanile (Chitarra e Voce): Forza ed espressività per ridare vita alle melodie più iconiche.\nArianna Sannino (Voce): Eleganza e intensità per esplorare le vette liriche dei testi di Lucio.\nEnrico Asquitti (Tastiera): capace di ricreare quelle atmosfere visionarie che hanno reso Dalla un artista d’avanguardia.\n\nIn questo flusso musicale inarrestabile si inserisce la narrazione di Giovanni Del Monte. Le parole\, gli aneddoti diventano parte dell’esperienza musicale permettendo al pubblico di “sentire” la poetica di Lucio ancora più profondamente. \nL’Ultimo Appuntamento \nQuesta serata segna l’ultimo evento della stagione firmata NOMEA nella Chiesa Anglicana. È l’occasione finale per godere dell’acustica avvolgente e del fascino neogotico di questo luogo unico prima della pausa estiva. Un congedo in grande stile\, dedicato a chi ama la musica che sa prendere l’anima. \nPosti Limitati – Prenota ora \n📍 Dettagli Operativi \n📅 Data: Sabato 9 Maggio 2026 \n⏰ Orari: 17:45 apertura – 18:30 inizio concerto   \n🎟️ Ticket: €15 adulti – ingresso gratuito per bambini fino a 5 anni   \n📲 Prenotazione obbligatoria: solo via WhatsApp al numero 3756139180   \nPrenota adesso\n📌 Dove: Chiesa Anglicana di Napoli\, Via S. Pasquale 15B   \n🚗 Parcheggi privati a pochi passi – facilmente raggiungibile dalla fermata Piazza Amedeo (Metro Linea 2) 
URL:https://www.nomeaeventi.it/evento/caro-amico-ti-scrivo-il-grande-finale-della-stagione-allanglicana/
LOCATION:Chiesa Anglicana di Napoli\, Via San Pasquale a Chiaia 15B\, Napoli
ATTACH;FMTTYPE=image/jpeg:https://www.nomeaeventi.it/wp-content/uploads/2026/02/Copia-di-Copertina-Evento-FB-2.jpg
END:VEVENT
BEGIN:VEVENT
DTSTART;VALUE=DATE:20260516
DTEND;VALUE=DATE:20260517
DTSTAMP:20260423T171911
CREATED:20260416T160208Z
LAST-MODIFIED:20260421T082110Z
UID:19672767-1778889600-1778975999@www.nomeaeventi.it
SUMMARY:Aperitivo Artistico: il sabato che non c’era a S.M. La Nova
DESCRIPTION:Il Sabato che non c’era: Benvenuti all’Aperitivo Artistico di NOMEA. Ultima data!\nEsistono luoghi che cambiano voce. Esistono serate che smettono di essere semplici uscite e diventano ricordi indelebili.  \nSabato 16 Maggio\, nel cuore pulsante di Napoli\, ci sarà l’ appuntamento che ha già conquistato chi cerca l’inaspettato: l’Aperitivo Artistico di NOMEA.  \nMa questa volta\, varcheremo una soglia speciale: quella del Complesso Monumentale di Santa Maria La Nova dove ci sarà l’ultimo appuntamento con questo format e sarà l’occasione per celebrare il 747° anniversario della fondazione di uno dei complessi monumentali più significativi di Napoli. \nL’Inizio: Una porta che si apre sull’Invisibile\nImmagina di attraversare il chiostro mentre le luci della città sfumano. Ad accoglierti All’interno dell’Antico Refettorio non ci sono solo mura secolari\, ma il suono magnetico di un Violino qui si svolgerà il primo atto del nostro Happening: un’immersione sensoriale che ti scollega dal caos esterno per proiettarti in una dimensione sospesa tra storia e leggenda. \nIl Mistero: Le tracce del Conte a Napoli e le Meraviglie Storiche\nMentre ti addentri nel sito\, l’attore Giovanni Del Monte ti guiderà tra aneddoti e storie in un racconto vivo. Scoprirai gli ambienti di questo scrigno d’arte e il misterioso Codice La Nova\, con le sue scritte incomprensibili lega Napoli a Vlad III di Valacchia — l’uomo dietro il mito di Dracula — sepolto proprio qui. \nL’Emozione: La Danza\nNel momento culminante\, il silenzio della chiesa con il suo magnifico tetto dorato lascerà il posto alle note della colonna sonora di Dracula. Due ballerine daranno vita a una coreografia suggestiva di danza contemporanea\, un dialogo corporeo che fonde il sacro del luogo con il fascino oscuro della leggenda. Un momento di bellezza pura\, da vivere col fiato sospeso. \nIl Convivio: L’Esplosione del Gusto\nL’Aperitivo Artistico non sarebbe tale senza il piacere del palato. Dopo il viaggio tra le arti\, ci sposteremo di pochi metri da ‘Pastèna’ nominati campioni regionali da Gambero Rosso come street food. Qui\, la tradizione napoletana si fa eccellenza: una Pasta e Patate artigianale fumante e un calice di vino partenopeo ti aspettano per celebrare la serata nel segno della convivialità e del sapore autentico. \nUnisciti a Noi! (Prenotazione Obbligatoria)\nL’esclusività richiede cura. Per questo abbiamo riservato solo pochi posti per tre turni di partecipazione\, affinché ogni ospite possa vivere l’esperienza in totale intimità. \n\nTurno A: h. 17.30 \nTurno B: h. 19.30 \nTurno C: h. 21.30 \n\n  \nContributo di partecipazione: \n\n20€ Adulti (Include: Performance artistiche\, Visita narrativa\, Degustazione e Vino)\n10€ (6-17 anni) | Gratis (0-5 anni)\n\nDove: Complesso Monumentale S.M. La Nova \nData: Sabato 16 Maggio  \n📌 PRENOTAZIONE OBBLIGATORIA \nI posti sono limitati e tendono a esaurirsi rapidamente. Assicura il tuo posto esclusivamente via WhatsApp:👉 375 6139180 \nNon scegliere un sabato qualunque. Scegli l’Aperitivo Artistico di NOMEA. \nPrenota adesso
URL:https://www.nomeaeventi.it/evento/aperitivo-artistico-il-sabato-che-non-cera-a-s-m-la-nova/
LOCATION:Complesso Monumentale Santa Maria La Nova\, Piazza S. Maria la Nova\, 44\, Napoli\, 80134
ATTACH;FMTTYPE=image/jpeg:https://www.nomeaeventi.it/wp-content/uploads/2026/04/Copia-di-Copertina-Evento-FB-1.jpg
END:VEVENT
BEGIN:VEVENT
DTSTART;VALUE=DATE:20260523
DTEND;VALUE=DATE:20260524
DTSTAMP:20260423T171911
CREATED:20260422T114553Z
LAST-MODIFIED:20260422T114553Z
UID:19672774-1779494400-1779580799@www.nomeaeventi.it
SUMMARY:SOIRÉE IN REGGIA: Esperienza teatrale itinerante in stile Bridgerton
DESCRIPTION:Sabato 23 Maggio dopo il successo precedente la Reggia di Portici si tinge dei colori di Bridgerton: NOMEA e La Compagnia Shultz\, in collaborazione con MUSA Reggia di Portici\, presentano un nuovo evento immersivo con un Gran Ballo Finale. \nL’Esperienza  \nUn’enigmatica cronaca Bridgerton sta per arrivare all’ombra del Vesuvio. I saloni affrescati e le scalinate monumentali della residenza borbonica varcheranno i confini del tempo per accogliere un percorso teatrale itinerante ispirato alle cronache mondane dell’epoca Regency. A differenza del teatro tradizionale\, i partecipanti percorreranno le sale vivendo i segreti e gli scandali di una storia senza tempo con uno spazio esclusivo dedicato. \nIl Cast  \nSette attori e un violinista solista animeranno gli spazi con meravigliosi abiti di scena\, rendendo la musica e il gesto scenico un linguaggio universale. Tra dialoghi serrati\, interazioni dirette e danze d’epoca\, ogni visitatore diventerà parte della società più osservata e giudicata del momento. \nIl Gran Ballo Finale  \nIl culmine della serata vedrà il superamento definitivo della “quarta parete”: sulle note del violinista\, gli interpreti della Compagnia Shultz coinvolgeranno tutti i presenti in una danza finale collettiva in perfetto stile Regency\, trasformando la Reggia di Portici in una vera sala da ballo dell’alta società londinese. \nPosti limitati ed in esaurimento. \nDettagli dell’Evento: \n\nData: 23 Maggio 2026\n\n\nLocation: Reggia di Portici \n\n\nFormat: Spettacolo teatrale itinerante \n\n\nOrganizzazione: NOMEA – Compagnia Shultz – MUSA Reggia di Portici\n\n\nTurni: 17.45 – 19.30 – 21.30\n\n\nTicket: 20€\n\n\nPrenotazione obbligatoria via Whatsapp: +39 375 613 9180\n\nPrenota adesso
URL:https://www.nomeaeventi.it/evento/soiree-in-reggia-esperienza-teatrale-itinerante-in-stile-bridgerton/
LOCATION:Reggia di Portici\, Piazza Carlo di Borbone\, Portici\, Italy
ATTACH;FMTTYPE=image/jpeg:https://www.nomeaeventi.it/wp-content/uploads/2026/04/Copia-di-Copertina-Evento-FB-4.jpg
END:VEVENT
END:VCALENDAR