BEGIN:VCALENDAR
VERSION:2.0
PRODID:-//Nomea - ECPv6.15.20//NONSGML v1.0//EN
CALSCALE:GREGORIAN
METHOD:PUBLISH
X-WR-CALNAME:Nomea
X-ORIGINAL-URL:https://www.nomeaeventi.it
X-WR-CALDESC:Eventi per Nomea
REFRESH-INTERVAL;VALUE=DURATION:PT1H
X-Robots-Tag:noindex
X-PUBLISHED-TTL:PT1H
BEGIN:VTIMEZONE
TZID:Europe/Rome
BEGIN:DAYLIGHT
TZOFFSETFROM:+0100
TZOFFSETTO:+0200
TZNAME:CEST
DTSTART:20250330T010000
END:DAYLIGHT
BEGIN:STANDARD
TZOFFSETFROM:+0200
TZOFFSETTO:+0100
TZNAME:CET
DTSTART:20251026T010000
END:STANDARD
BEGIN:DAYLIGHT
TZOFFSETFROM:+0100
TZOFFSETTO:+0200
TZNAME:CEST
DTSTART:20260329T010000
END:DAYLIGHT
BEGIN:STANDARD
TZOFFSETFROM:+0200
TZOFFSETTO:+0100
TZNAME:CET
DTSTART:20261025T010000
END:STANDARD
BEGIN:DAYLIGHT
TZOFFSETFROM:+0100
TZOFFSETTO:+0200
TZNAME:CEST
DTSTART:20270328T010000
END:DAYLIGHT
BEGIN:STANDARD
TZOFFSETFROM:+0200
TZOFFSETTO:+0100
TZNAME:CET
DTSTART:20271031T010000
END:STANDARD
END:VTIMEZONE
BEGIN:VEVENT
DTSTART;VALUE=DATE:20260207
DTEND;VALUE=DATE:20260208
DTSTAMP:20260423T222557
CREATED:20260116T144628Z
LAST-MODIFIED:20260116T144628Z
UID:19672726-1770422400-1770508799@www.nomeaeventi.it
SUMMARY:Aperitivo Artistico: Il Sabato che non c’era a Napoli
DESCRIPTION:Il Sabato che non c’era: Benvenuti all’Aperitivo Artistico di NOMEA\nEsistono luoghi che cambiano voce. Esistono serate che smettono di essere semplici uscite e diventano ricordi indelebili. \nSabato 7 Febbraio\, nel cuore pulsante di Napoli\, torna l’appuntamento che ha già conquistato chi cerca l’inaspettato: l’Aperitivo Artistico di NOMEA.  \nMa questa volta\, varcheremo una soglia speciale: quella del Complesso Monumentale di Santa Maria La Nova. \nL’Inizio: Una porta che si apre sull’Invisibile\nImmagina di attraversare il chiostro mentre le luci della città sfumano. Ad accoglierti\, non ci sono solo mura secolari\, ma il suono magnetico di un Violino. All’interno dell’Antico Refettorio si svolgerà il primo atto del nostro Happening: un’immersione sensoriale che ti scollega dal caos esterno per proiettarti in una dimensione sospesa tra storia e leggenda. \nIl Mistero: Le tracce del Conte a Napoli e le Meraviglie Storiche\nMentre ti addentri nel sito\, l’attore Giovanni Del Monte ti guiderà tra aneddoti e storie in un racconto vivo. Scoprirai gli ambienti di questo scrigno d’arte e il misterioso Codice La Nova\, con le sue scritte incomprensibili lega Napoli a Vlad III di Valacchia — l’uomo dietro il mito di Dracula — sepolto proprio qui. \nL’Emozione: Tra Danza e Ombre\nNel momento culminante\, il silenzio della chiesa con il suo magnifico tetto dorato sarà rotto dalle note della colonna sonora di Dracula. Due ballerine daranno vita a una coreografia suggestiva di danza contemporanea\, un dialogo corporeo che fonde il sacro del luogo con il fascino oscuro della leggenda. Un momento di bellezza pura\, da vivere col fiato sospeso. \nIl Convivio: L’Esplosione del Gusto\nL’Aperitivo Artistico non sarebbe tale senza il piacere del palato. Dopo il viaggio tra le arti\, ci sposteremo di pochi metri da ‘Pastena’. Qui\, la tradizione napoletana si fa eccellenza: una Pasta e Patate artigianale fumante e un calice di vino partenopeo ti aspettano per celebrare la serata nel segno della convivialità e del sapore autentico. \nUnisciti a Noi! (Prenotazione Obbligatoria)\nL’esclusività richiede cura. Per questo abbiamo riservato solo pochi posti per tre turni di partecipazione\, affinché ogni ospite possa vivere l’esperienza in totale intimità. \n\nTurno A: h. 17.30 \nTurno B: h. 19.30 \nTurno C: h. 21.30 \n\nContributo di partecipazione: \n\n20€ Adulti (Include: Performance artistiche\, Visita narrativa\, Degustazione e Vino)\n10€ (6-17 anni) | Gratis (0-5 anni)\n\nDove: Complesso Monumentale S.M. La Nova \nData: Sabato 7 Febbraio \n📌 PRENOTAZIONE OBBLIGATORIA \nI posti sono limitati e tendono a esaurirsi rapidamente. Assicura il tuo posto esclusivamente via WhatsApp:👉 375 6139180 \nNon scegliere un sabato qualunque. Scegli l’Aperitivo Artistico di NOMEA. \nPrenota adesso
URL:https://www.nomeaeventi.it/evento/aperitivo-artistico-il-sabato-che-non-cera-a-napoli/
LOCATION:Complesso Monumentale Santa Maria La Nova\, Piazza S. Maria la Nova\, 44\, Napoli\, 80134
END:VEVENT
BEGIN:VEVENT
DTSTART;VALUE=DATE:20260214
DTEND;VALUE=DATE:20260215
DTSTAMP:20260423T222557
CREATED:20260112T105808Z
LAST-MODIFIED:20260112T160115Z
UID:19672722-1771027200-1771113599@www.nomeaeventi.it
SUMMARY:Jazz a Chiaia: uno dei concerti più amati a Napoli
DESCRIPTION:Jazz a Chiaia: NOMEA ritorna con uno dei concerti più amati a Napoli proponendo un emozionante viaggio musicale\, un evento che non puoi perdere! \nLa grande attesa è finita\, dopo il grande successo riscosso nelle precedenti edizioni torna il concerto dedicato alla meravigliosa musica Jazz con una nuova ed emozionante esibizione.  \nNOMEA proporrà al pubblico partenopeo un autentico talento della musica: la cantante Letizia Vitagliano. \nCon la sua incredibile dote vocale  rappresenta un riferimento nel panorama musicale accompagnata da uno dei migliori pianisti Jazz italiani: Mario Nappi. \nIl duo proporrà una performance straordinaria che ripercorre standard e rivisitazioni innovative in chiave Jazz \nI brani più iconici\, rivivranno in un’interpretazione unica che trasporterà il pubblico in un viaggio musicale senza tempo.  \nNon perdere l’occasione di vivere una serata indimenticabile\, riscoprendo il sound che emoziona il mondo  \nLuogo: Chiesa Anglicana di Napoli –  caratterizzata da architetture neogotiche è il luogo ideale dove lasciarsi trasportare dalla magia della musica tra le sue colonne e particolari decorazioni  \nOrganizzazione: L’evento è ideato e prodotto  da NOMEA\, brand Internazionale nato a Napoli insignito anche del ‘Premio Nativity in The World’ all’interno del 30° Concerto dell’Epifania \nVivi con noi questa Emozione! \nQuando: Sabato 14 febbraio 2026 \nOrari: h. 17.45 apertura biglietteria – h. 18.30 inizio concerto \nTicket:  15€ adulti –  gratuito per bambini fino a 5 anni \nPrenotazione obbligatoria tramite messaggio Whatsapp: 3756139180 \nDove: Chiesa Anglicana di Napoli  – Via S. Pasquale\, 15B\, Napoli \nParcheggi privati a pochi passi dalla chiesa. \nFacilmente raggiungibile dalla fermata Piazza Amedeo della Linea Metro 2. \nPrenota adesso
URL:https://www.nomeaeventi.it/evento/jazz-a-chiaia-uno-dei-concerti-piu-amati-a-napoli/
LOCATION:Chiesa Anglicana di Napoli\, Via San Pasquale a Chiaia 15B\, Napoli
END:VEVENT
BEGIN:VEVENT
DTSTART;VALUE=DATE:20260221
DTEND;VALUE=DATE:20260222
DTSTAMP:20260423T222557
CREATED:20260119T125707Z
LAST-MODIFIED:20260120T105515Z
UID:19672729-1771632000-1771718399@www.nomeaeventi.it
SUMMARY:SOIRÉE IN REGGIA: Esperienza teatrale itinerante tra gli intrighi in stile Bridgerton
DESCRIPTION:SOIRÉE IN REGGIA: Esperienza teatrale itinerante tra gli intrighi in stile Bridgerton \nSabato 21 Febbraio\, la Reggia di Portici si tinge dei colori di Bridgerton: NOMEA e La Compagnia Shultz\, in collaborazione con MUSA Reggia di Portici\, presentano un nuovo evento immersivo con un Gran Ballo Finale. \nL’Esperienza  \nUn’enigmatica cronaca mondana sta per arrivare all’ombra del Vesuvio. I saloni affrescati e le scalinate monumentali della residenza borbonica varcheranno i confini del tempo per accogliere un percorso teatrale itinerante ispirato alle cronache mondane dell’epoca Regency. A differenza del teatro tradizionale\, i partecipanti percorreranno le sale vivendo i segreti e gli scandali di una storia senza tempo con uno spazio esclusivo dedicato al cerimoniale della Regina. \nIl Cast  \nSette attori e un violinista solista animeranno gli spazi con meravigliosi abiti di scena\, rendendo la musica e il gesto scenico un linguaggio universale. Tra dialoghi serrati\, interazioni dirette e danze d’epoca\, ogni visitatore diventerà parte della società più osservata e giudicata del momento. \nIl Gran Ballo Finale  \nIl culmine della serata vedrà il superamento definitivo della “quarta parete”: sulle note del violinista\, gli interpreti della Compagnia Shultz coinvolgeranno tutti i presenti in una danza finale collettiva in perfetto stile Regency\, trasformando la Reggia di Portici in una vera sala da ballo dell’alta società londinese. \nPosti limitati ed in esaurimento. \nDettagli dell’Evento: \n\nData: 21 Febbraio 2026\n\n\nLocation: Reggia di Portici \n\n\nFormat: Spettacolo itinerante interattivo\n\n\nOrganizzazione: NOMEA – Compagnia Shultz – MUSA Reggia di Portici\n\n\nTurni: 17.30 – 19.30 – 21.30\n\n\nTicket: 20€\n\n\nPrenotazione obbligatoria via Whatsapp: +39 375 613 9180\n\nPrenota adesso
URL:https://www.nomeaeventi.it/evento/soiree-in-reggia-esperienza-teatrale-itinerante-tra-gli-intrighi-in-stile-bridgerton/
LOCATION:Reggia di Portici\, Piazza Carlo di Borbone\, Portici\, Italy
END:VEVENT
END:VCALENDAR