BEGIN:VCALENDAR
VERSION:2.0
PRODID:-//Nomea - ECPv6.15.20//NONSGML v1.0//EN
CALSCALE:GREGORIAN
METHOD:PUBLISH
X-WR-CALNAME:Nomea
X-ORIGINAL-URL:https://www.nomeaeventi.it
X-WR-CALDESC:Eventi per Nomea
REFRESH-INTERVAL;VALUE=DURATION:PT1H
X-Robots-Tag:noindex
X-PUBLISHED-TTL:PT1H
BEGIN:VTIMEZONE
TZID:Europe/Rome
BEGIN:DAYLIGHT
TZOFFSETFROM:+0100
TZOFFSETTO:+0200
TZNAME:CEST
DTSTART:20250330T010000
END:DAYLIGHT
BEGIN:STANDARD
TZOFFSETFROM:+0200
TZOFFSETTO:+0100
TZNAME:CET
DTSTART:20251026T010000
END:STANDARD
BEGIN:DAYLIGHT
TZOFFSETFROM:+0100
TZOFFSETTO:+0200
TZNAME:CEST
DTSTART:20260329T010000
END:DAYLIGHT
BEGIN:STANDARD
TZOFFSETFROM:+0200
TZOFFSETTO:+0100
TZNAME:CET
DTSTART:20261025T010000
END:STANDARD
BEGIN:DAYLIGHT
TZOFFSETFROM:+0100
TZOFFSETTO:+0200
TZNAME:CEST
DTSTART:20270328T010000
END:DAYLIGHT
BEGIN:STANDARD
TZOFFSETFROM:+0200
TZOFFSETTO:+0100
TZNAME:CET
DTSTART:20271031T010000
END:STANDARD
END:VTIMEZONE
BEGIN:VEVENT
DTSTART;VALUE=DATE:20260110
DTEND;VALUE=DATE:20260111
DTSTAMP:20260424T000328
CREATED:20251222T154422Z
LAST-MODIFIED:20251222T154422Z
UID:19672706-1768003200-1768089599@www.nomeaeventi.it
SUMMARY:Jazz a S.M. La Nova: Un’Esperienza Sonora Unica
DESCRIPTION:L’Incanto del Jazz nel Cuore di Santa Maria La Nova: Un’Esperienza Sonora Unica\nSabato 10 gennaio\, la maestosità architettonica e il calore della musica jazz si fondono in un evento esclusivo firmato NOMEA. Nella cornice della Chiesa Monumentale del Complesso Monumentale di Santa Maria La Nova\, il pubblico sarà avvolto da un’atmosfera di rara eleganza. \nDopo il grande successo del tour in Italia\, torna protagonista il trio Jazz Do It\, una formazione capace di interpretare l’essenza del jazz con una sensibilità profonda e coinvolgente.  \nLa voce di Lisa Iavarone\, accompagnata dalla chitarra di Antonio Palumbo e dalla batteria di Emilio Pietropaolo\, darà vita a un concerto unico nel maestoso sito storico caratterizzato dal tetto dorato e dalle opere d’arte simbolo della Cultura Partenopea \nI musicisti proporranno standard e cover internazionali rielaborate in chiave Jazz con brani iconici che rivivranno in un’interpretazione unica che trasporterà il pubblico in un viaggio musicale senza tempo.  \nNon perdere l’occasione di vivere una serata indimenticabile\, riscoprendo il sound irresistibile jazz in un sito storico esclusivo. \nUn Viaggio tra Storia e Bellezza\nL’accoglienza inizia alle ore 17.30\, invitando i presenti a un percorso di scoperta che precede l’emozione del live. Passeggiando liberamente tra gli spazi del Complesso Monumentale\, gli ospiti potranno ammirare l’armonia del chiostro seicentesco e i tesori d’arte custoditi nel Cappellone di San Giacomo della Marca\, lasciandosi affascinare dal rigore dell’Antico Refettorio e dalle suggestioni storiche che rendono unico questo luogo \nOrganizzazione\nL’evento è prodotto ed ideato da NOMEA\, brand internazionale dedicato alla creazione di esperienze culturali di alto profilo e recentemente insignito del prestigioso Premio Nativity in The World durante il 30° Concerto dell’Epifania. Un sigillo di qualità che garantisce una serata dove l’arte\, la musica e il patrimonio storico si fondono in un unico\, indimenticabile abbraccio. \n📍 Informazioni Utili\n\nSede: Complesso Monumentale di Santa Maria La Nova\, Napoli\nData: Sabato 10 gennaio 2025\nOrari: Ore 17.30 apertura e visita libera | Ore 18.30 inizio concerto \nIngresso: Adulti €15 | Ragazzi (6-17 anni) €10 | Bambini (0-5 anni) gratuito\n\nLa prenotazione è obbligatoria per garantire l’esclusività dell’esperienza. 📲 WhatsApp: 375 6139180 🌐 Sito ufficiale: www.nomeaeventi.it \nPrenota adesso \nA breve distanza dalle fermate Metro Linea 1 (Università\, Toledo) e Linea 2 (Montesanto). Parcheggi privati disponibili in zona.
URL:https://www.nomeaeventi.it/evento/jazz-a-s-m-la-nova-unesperienza-sonora-unica/
LOCATION:Complesso Monumentale Santa Maria La Nova\, Piazza S. Maria la Nova\, 44\, Napoli\, 80134
END:VEVENT
BEGIN:VEVENT
DTSTART;VALUE=DATE:20260122
DTEND;VALUE=DATE:20260123
DTSTAMP:20260424T000328
CREATED:20251223T132743Z
LAST-MODIFIED:20251223T132743Z
UID:19672717-1769040000-1769126399@www.nomeaeventi.it
SUMMARY:Game Concert per Anacapri Winter Games
DESCRIPTION:Dalle ovazioni del Palapartenope all’ Anacapri Winter Games: arriva il “Game Concert” live per archi e cosplay\nANACAPRI – Dopo lo straordinario successo di pubblico e critica registrato al Palapartenope di Napoli\, il format firmato NOMEA si prepara a incantare l’isola azzurra. Il prossimo 22 gennaio\, alle ore 17:30\, Anacapri Winter Games ospiterà lo Show Game Concert\, un evento che fonde cultura videoludica e musica d’autore. \nLa forza di questo spettacolo risiede nella sua raffinata esecuzione: a differenza delle tracce digitali\, le colonne sonore dei titoli più celebri del gaming mondiale verranno interpretate interamente dal vivo da un ensemble di strumenti ad arco.  \nLa precisione dei violini e dei violoncelli restituirà un’anima epica e vibrante ai temi musicali che hanno segnato intere generazioni\, creando un ponte perfetto tra tradizione classica e innovazione digitale. \nL’esperienza sarà resa totale da un imponente disegno luci e dalle performance dei cosplayers\, che si alterneranno sul palco per dare corpo e volto agli eroi dello schermo\, rendendo ogni brano un vero e proprio atto teatrale. \nDETTAGLI EVENTO: \n\n\n\nLuogo: Anacapri – Cinema Paradiso Sala 1 \nData: 22 gennaio\nOrario: 17:30\n\n\n\n\nIngresso Gratuito\n\nUn appuntamento imperdibile per vivere la magia del gaming in una veste elegante e coinvolgente\, nel cuore dell’inverno anacaprese.
URL:https://www.nomeaeventi.it/evento/game-concert-per-anacapri-winter-games/
LOCATION:Cinema Paradiso\, Via Giuseppe Orlandi\, anacpari\, 80071\, Italy
END:VEVENT
BEGIN:VEVENT
DTSTART;VALUE=DATE:20260124
DTEND;VALUE=DATE:20260125
DTSTAMP:20260424T000328
CREATED:20251223T124812Z
LAST-MODIFIED:20251223T125728Z
UID:19672709-1769212800-1769299199@www.nomeaeventi.it
SUMMARY:"Il Mio Canto Libero": Il Mito di Lucio Battisti rivive nella Chiesa Anglicana di Napoli
DESCRIPTION:“Il Mio Canto Libero”: Il Mito di Lucio Battisti rivive nella Chiesa Anglicana di Napoli\nUn viaggio emozionale tra musica e parole in una delle location più suggestive della città. Sabato 24 gennaio\, NOMEA presenta un omaggio unico al genio della musica italiana. \nDopo il grande successo dei precedenti appuntamenti\, NOMEA torna a celebrare l’universo di Lucio Battisti. La cornice d’eccezione sarà la Chiesa Anglicana di Napoli\, un gioiello neogotico nel cuore di Chiaia\, dove la musica e le arcate storiche trasformeranno il concerto in un’esperienza sensoriale profonda. \nLo Spettacolo: Tre Voci\, Un’Unica Emozione \nNon una semplice celebrazione\, ma una reinterpretazione intima e originale dei capolavori che hanno segnato la storia della musica italiana. Da “29 Settembre” a “I Giardini di Marzo”\, fino all’iconica “Il Mio Canto Libero”. \nSul palco\, tre cantanti d’eccezione offriranno una performance coinvolgente ma allo stesso tempo sensibile dei brani: Arianna Sannino\, A Smile From Godzilla e Antonio Paduano \nA guidare il pubblico in questo viaggio sarà Giovanni Del Monte\, che curerà lo storytelling della serata con aneddoti\, curiosità e storie inedite sulla vita di Battisti\, intrecciando musica e narrazione. \nDettagli dell’Evento\n\nData: Sabato 24 Gennaio 2026\nLocation: Chiesa Anglicana di Napoli – Via S. Pasquale 15B\nOrari: Apertura h. 17.45 | Inizio Concerto h. 18.30\n\nInformazioni e Prenotazioni\n\nContributo: 15 € Adulti | Gratuito per bambini fino a 5 anni\nPrenotazione Obbligatoria: Inviare un messaggio WhatsApp al 375.6139180\nSito Web: www.nomeaeventi.it\n\nPrenota adesso \nCome Arrivare \n\nIn Metro: Linea 2\, fermata Piazza Amedeo (a pochi minuti a piedi).\n\nIn Auto: Disponibilità di diversi parcheggi privati a pochi passi dalla struttura.
URL:https://www.nomeaeventi.it/evento/il-mio-canto-libero-il-mito-di-lucio-battisti-rivive-nella-chiesa-anglicana-di-napoli/
LOCATION:Chiesa Anglicana di Napoli\, Via San Pasquale a Chiaia 15B\, Napoli
END:VEVENT
BEGIN:VEVENT
DTSTART;VALUE=DATE:20260131
DTEND;VALUE=DATE:20260201
DTSTAMP:20260424T000328
CREATED:20251223T131038Z
LAST-MODIFIED:20251223T131038Z
UID:19672714-1769817600-1769903999@www.nomeaeventi.it
SUMMARY:La Reggia Incantata: Suoni e Voci di Partenope
DESCRIPTION:La Reggia Incantata: Suoni e Voci di Partenope \nIl viaggio emozionale tra arte\, musica e memoria torna nella maestosa Reggia di Portici \nDopo il grande successo dello scorso appuntamento\, la Reggia di Portici riapre le sue porte alla meraviglia con il nuovo format NOMEA: “La Reggia Incantata: Voci e Suoni di Partenope” — un’esperienza immersiva che intreccia musica\, narrazione e immagini in un racconto che vibra di storia e contemporaneità. \nNegli eleganti ambienti del Piano Nobile dell’Herculanense Museum\, il pubblico sarà guidato dalla voce narrante dell’attrice Annalucy Menafra\, in un percorso intimo che risveglia la memoria e la poesia della Napoli più autentica. \nLe esecuzioni dal vivo di Daniele Montuori e Achille Campanile accompagneranno il viaggio con celebri brani della tradizione napoletana e composizioni originali\, creando un dialogo costante tra passato e presente. \nVoci\, suoni e spazi si intrecceranno in un’esperienza sensoriale di rara intensità\, dove la musica sfiora le pareti come un chiarore inatteso e la Reggia diventa un luogo dell’anima. \nOrganizzato da NOMEA\, brand attivo in Italia e all’estero che crea emozioni attraverso esperienze non convenzionali\, insignito del Premio Nativity in The World all’interno del 30° Concerto dell’Epifania 2025; in collaborazione con MUSA Reggia di Portici. \n  \nI posti sono limitati — Prenotazione obbligatoria tramite WhatsApp: 375 6139180 \n  \n📍 Location: Reggia di Portici – Piano Nobile \n📅 Data: 31 Gennaio 2026 \n⏰ Turni di accesso: \n\n Apertura: 17.00 – Inizio Evento: 17.30 – Fine Evento: 18.30\n Apertura: 19.00 – Inizio Evento: 19.30 – Fine Evento: 20.30\n Apertura: 21.00 – Inizio Evento: 21.30 – Fine Evento: 22.30\n\nTicket: 15€  \nPrenota adesso \n🚗 Parcheggio gratuito negli spazi della Reggia \nwww.nomeaeventi.it \n👉 Un’occasione unica per vivere la Reggia di Portici in una forma nuova: un’esperienza che fonde arte\, musica e racconto per restituire voce all’identità più profonda di Partenope.
URL:https://www.nomeaeventi.it/evento/la-reggia-incantata-suoni-e-voci-di-partenope/
LOCATION:Reggia di Portici\, Piazza Carlo di Borbone\, Portici\, Italy
END:VEVENT
END:VCALENDAR