BEGIN:VCALENDAR
VERSION:2.0
PRODID:-//Nomea - ECPv6.15.20//NONSGML v1.0//EN
CALSCALE:GREGORIAN
METHOD:PUBLISH
X-WR-CALNAME:Nomea
X-ORIGINAL-URL:https://www.nomeaeventi.it
X-WR-CALDESC:Eventi per Nomea
REFRESH-INTERVAL;VALUE=DURATION:PT1H
X-Robots-Tag:noindex
X-PUBLISHED-TTL:PT1H
BEGIN:VTIMEZONE
TZID:Europe/Rome
BEGIN:DAYLIGHT
TZOFFSETFROM:+0100
TZOFFSETTO:+0200
TZNAME:CEST
DTSTART:20240331T010000
END:DAYLIGHT
BEGIN:STANDARD
TZOFFSETFROM:+0200
TZOFFSETTO:+0100
TZNAME:CET
DTSTART:20241027T010000
END:STANDARD
BEGIN:DAYLIGHT
TZOFFSETFROM:+0100
TZOFFSETTO:+0200
TZNAME:CEST
DTSTART:20250330T010000
END:DAYLIGHT
BEGIN:STANDARD
TZOFFSETFROM:+0200
TZOFFSETTO:+0100
TZNAME:CET
DTSTART:20251026T010000
END:STANDARD
BEGIN:DAYLIGHT
TZOFFSETFROM:+0100
TZOFFSETTO:+0200
TZNAME:CEST
DTSTART:20260329T010000
END:DAYLIGHT
BEGIN:STANDARD
TZOFFSETFROM:+0200
TZOFFSETTO:+0100
TZNAME:CET
DTSTART:20261025T010000
END:STANDARD
END:VTIMEZONE
BEGIN:VEVENT
DTSTART;VALUE=DATE:20251213
DTEND;VALUE=DATE:20251214
DTSTAMP:20260424T013533
CREATED:20251027T151102Z
LAST-MODIFIED:20251027T151102Z
UID:19672689-1765584000-1765670399@www.nomeaeventi.it
SUMMARY:Christmas Jazz 2025🎶 Un Concerto Natalizio tra Jazz e Voce Lirica
DESCRIPTION:Christmas Jazz 2025🎶 \nUn Concerto Natalizio tra Jazz e Voce Lirica nella suggestiva Chiesa Anglicana di Napoli \nDopo il grande successo delle scorse edizioni\, torna uno degli appuntamenti NOMEA musicali più attesi delle festività: Christmas Jazz 2025. \nL’evento si terrà sabato 13 dicembre 2025 nella splendida Chiesa Anglicana di Napoli\, a pochi passi da Piazza San Pasquale\, un gioiello architettonico in stile neogotico che ogni anno si trasforma in un palcoscenico di magia e suggestione. \n✨ Christmas Jazz è un’esperienza unica che fonde la potenza evocativa della voce lirica con l’energia del jazz\, creando un’atmosfera natalizia elegante e coinvolgente. \nProtagonisti della serata \nLa straordinaria voce del Soprano Romina Casucci\, artista di fama internazionale\, capace di incantare il pubblico con la sua intensità interpretativa. \nAd accompagnarla\, il Jazz Trio V.Mood: \n– Vittorio De Sangro – tastiera\, virtuoso del jazz e della musica contemporanea; \n– Marco Gagliano – batteria\, con esperienza in festival nazionali e internazionali; \n– Aldo Capasso – basso\, dal tocco elegante e avvolgente. \n  \nInsieme\, porteranno calore e ritmo\, creando sonorità raffinate che dialogano perfettamente con la voce di Romina e l’atmosfera unica della serata. \n🎶 Organizzazione: L’evento è ideato e prodotto da NOMEA\, brand presente in Italia e all’estero che condivide emozioni con esperienze non convenzionali\, insignita del Premio Nativity in The World all’interno del 30° Concerto dell’Epifania 2025. \nQuando: Sabato 13 dicembre 2025 \nOrari: h. 17.45 apertura biglietteria – h. 18.30 inizio concerto \nTicket: 20€ adulti – gratuito per bambini fino a 5 anni \nPrenotazione obbligatoria: tramite messaggio WhatsApp 3756139180 \nPrenota adesso \nDove: Chiesa Anglicana di Napoli\, Via S. Pasquale 15B\, Napoli \nParcheggi privati a pochi passi dalla chiesa. Facilmente raggiungibile dalla fermata Piazza Amedeo della Linea Metro 2. \n🌐 www.nomeaeventi.it \n✨ Christmas Jazz 2025 è molto più di un concerto: è una celebrazione della musica e della bellezza del Natale\, in un luogo senza tempo dove arte e spiritualità si fondono per regalare emozioni autentiche.
URL:https://www.nomeaeventi.it/evento/christmas-jazz-2025%f0%9f%8e%b6-un-concerto-natalizio-tra-jazz-e-voce-lirica/
LOCATION:Chiesa Anglicana di Napoli\, Via San Pasquale a Chiaia 15B\, Napoli
END:VEVENT
BEGIN:VEVENT
DTSTART;VALUE=DATE:20251220
DTEND;VALUE=DATE:20251221
DTSTAMP:20260424T013533
CREATED:20251128T160057Z
LAST-MODIFIED:20251128T160057Z
UID:19672695-1766188800-1766275199@www.nomeaeventi.it
SUMMARY:Tra Cielo e Terra: Arpe e Mistero al Complesso di S.M. La Nova
DESCRIPTION:𝗘𝗩𝗘𝗡𝗧𝗢 𝗗’𝗘𝗖𝗖𝗘𝗟𝗟𝗘𝗡𝗭𝗔 𝗔 𝗡𝗔𝗣𝗢𝗟𝗜: “𝗧𝗿𝗮 𝗖𝗶𝗲𝗹𝗼 𝗲 𝗧𝗲𝗿𝗿𝗮”\nIl 20 Dicembre\, Santa Maria la Nova svela i suoi segreti: dall’Arpa Solista al Mistero di Dracula. Un viaggio che affascina il mondo.\nNOMEA è lieta di presentare un appuntamento culturale di spicco internazionale: “Tra Cielo e Terra”\, ospitato dal Complesso Monumentale di Santa Maria la Nova. Oggi\, questo scrigno d’arte è al centro di un clamoroso richiamo globale. Vivi un’esperienza profonda che non è un concerto\, ma un viaggio che spazia dall’armonia sublime ai misteri della storia. \nL’evento avrà inizio con un’emozionante performance dell’acclamata arpista Maria Caccioppoli. Le armonie dell’Arpa creeranno un rituale sonoro di grande prestigio\, preparando i sensi a un’esplorazione che va oltre il comune. \nA seguire\, i partecipanti saranno condotti nella storia e nel mistero dal Prof. Giuseppe Reale\, Direttore e studioso del Complesso\, la cui opera ha amplificato la notorietà del sito.  \nIl Prof. Reale guiderà il pubblico negli ambienti simbolo\, tra cui: la Chiesa Monumentale\, la storica Sagrestia ed il magnifico Chiostro  \n  \n📢 Il Grande Richiamo: La Tomba di Vlad III (Dracula) \nProprio in questi ambienti\, il Prof. Reale svelerà il mistero che ha reso S. Maria la Nova una delle mete più discusse e di tendenza al mondo: l’ipotesi sensazionale della presunta Tomba di Vlad III Tepes\, l’ispiratore del Conte Dracula. Le indagini recenti\, con la decifrazione delle misteriose iscrizioni presenti nel Sito\, hanno confermato il legame tra Napoli e il principe valacco. Un racconto esclusivo e affascinante sul mistero che unisce la Transilvania al cuore di Napoli. \n𝗩𝗶𝘀𝗶𝘁𝗮 𝗟𝗶𝗯𝗲𝗿𝗮: 𝗟𝗲 𝗔𝗹𝘁𝗿𝗲 𝗠𝗲𝗿𝗮𝘃𝗶𝗴𝗹𝗶𝗲 𝗱𝗲𝗹 𝗖𝗼𝗺𝗽𝗹𝗲𝘀𝘀𝗼\nAl termine della visita-racconto guidata dal Direttore\, i partecipanti avranno la possibilità di esplorare in completa autonomia la parte superiore del Complesso\, per ammirare i tesori d’arte che completano il patrimonio del sito come la splendida Quadreria e la nuova emozionante Collezione di Presepi storica. \nL’evento è ideato e prodotto da NOMEA\, brand presente in Italia e all’estero che condivide emozioni con esperienze non convenzionali\, insignita del Premio Nativity in The World all’interno del 30° Concerto dell’Epifania 2025 in collaborazione con il Complesso Monumentale di Santa Maria la Nova. \n  \n\nPrenotazione obbligatoria via WhatsApp: 375 6139180\nTicket: 15€\nData: 20 Dicembre\nOrari: turno A 18.00 – Turno B 20.00\nDove: Complesso Monumentale di Santa Maria la Nova\, Napoli\n\n🚇 A pochi minuti dalle fermate Università\, Toledo (Metro Linea 1) e Montesanto (Linea 2)\n 🚗 Parcheggi privati disponibili nelle immediate vicinanze \nwww.nomeaeventi.it  \nPrenota adesso
URL:https://www.nomeaeventi.it/evento/tra-cielo-e-terra-arpe-e-mistero-al-complesso-di-s-m-la-nova/
LOCATION:Complesso Monumentale Santa Maria La Nova\, Piazza S. Maria la Nova\, 44\, Napoli\, 80134
END:VEVENT
END:VCALENDAR