BEGIN:VCALENDAR
VERSION:2.0
PRODID:-//Nomea - ECPv6.15.20//NONSGML v1.0//EN
CALSCALE:GREGORIAN
METHOD:PUBLISH
X-WR-CALNAME:Nomea
X-ORIGINAL-URL:https://www.nomeaeventi.it
X-WR-CALDESC:Eventi per Nomea
REFRESH-INTERVAL;VALUE=DURATION:PT1H
X-Robots-Tag:noindex
X-PUBLISHED-TTL:PT1H
BEGIN:VTIMEZONE
TZID:Europe/Rome
BEGIN:DAYLIGHT
TZOFFSETFROM:+0100
TZOFFSETTO:+0200
TZNAME:CEST
DTSTART:20240331T010000
END:DAYLIGHT
BEGIN:STANDARD
TZOFFSETFROM:+0200
TZOFFSETTO:+0100
TZNAME:CET
DTSTART:20241027T010000
END:STANDARD
BEGIN:DAYLIGHT
TZOFFSETFROM:+0100
TZOFFSETTO:+0200
TZNAME:CEST
DTSTART:20250330T010000
END:DAYLIGHT
BEGIN:STANDARD
TZOFFSETFROM:+0200
TZOFFSETTO:+0100
TZNAME:CET
DTSTART:20251026T010000
END:STANDARD
BEGIN:DAYLIGHT
TZOFFSETFROM:+0100
TZOFFSETTO:+0200
TZNAME:CEST
DTSTART:20260329T010000
END:DAYLIGHT
BEGIN:STANDARD
TZOFFSETFROM:+0200
TZOFFSETTO:+0100
TZNAME:CET
DTSTART:20261025T010000
END:STANDARD
END:VTIMEZONE
BEGIN:VEVENT
DTSTART;VALUE=DATE:20251108
DTEND;VALUE=DATE:20251109
DTSTAMP:20260424T031247
CREATED:20251018T152946Z
LAST-MODIFIED:20251105T112516Z
UID:19672674-1762560000-1762646399@www.nomeaeventi.it
SUMMARY:Successi anni '70 e '80 nella cornice neogotica della Chiesa Anglicana di Napoli
DESCRIPTION:La rassegna musicale di NOMEA torna alla Chiesa Anglicana di Napoli con un evento unico e imperdibile dedicato ai grandi successi degli anni ’70 e ’80. \nDopo il successo del primo appuntamento\, la serata si svolge in una cornice straordinaria: la Chiesa Anglicana\, gioiello neogotico nel cuore della città\, che con la sua atmosfera raccolta trasforma ogni nota in un’esperienza intensa e irripetibile. \nNon sarà un semplice concerto ma un viaggio emozionale tra le canzoni che hanno segnato un’epoca\, reinterpretate con passione e originalità\, capaci di toccare le corde più profonde di chi ascolta. \nSul palco\, la carismatica Giovanna Ferrara\, voce potente e magnetica\, capace di coinvolgere il pubblico con emozioni autentiche. Ha esordito sul Teatro Ariston di Sanremo nel programma ‘Ti lascio una canzone’ di Rai 1 e recentemente è stata protagonista con Fiorello al programma ‘E viva il videobox’ a Rai 2.  \nAd accompagnarla\, Fabio Ragucci alla tastiera\, con sonorità raffinate che rendono il concerto un percorso sonoro avvolgente e suggestivo. \nL’esperienza sarà arricchita da un intervento visivo di video mapping sull’antica vetrata\, pensato per esaltare l’atmosfera del luogo e creare una connessione armonica tra musica e spazi \nUn appuntamento imperdibile per chi vuole vivere la musica in una dimensione nuova\, intensa e autentica. \n📍 Luogo: Chiesa Anglicana di Napoli – caratterizzata da architetture neogotiche\, è il luogo ideale per lasciarsi trasportare dalla magia della musica tra colonne slanciate e particolari decorazioni. \n🎶 Organizzazione: L’evento è ideato e prodotto da NOMEA\, brand presente in Italia e all’estero che condivide emozioni con esperienze non convenzionali\, insignita del Premio Nativity in The World all’interno del 30° Concerto dell’Epifania 2025. \n Quando: Sabato 8 novembre 2025\n Orari: h. 17.45 apertura – h. 18.30 inizio concerto\n Ticket: 15€ adulti – gratuito per bambini fino a 5 anni\n Prenotazione obbligatoria: tramite messaggio WhatsApp 3756139180\n Dove: Chiesa Anglicana di Napoli\, Via S. Pasquale 15B\, Napoli \nPrenota adesso\nParcheggi privati a pochi passi dalla chiesa. Facilmente raggiungibile dalla fermata Piazza Amedeo della Linea Metro 2. \n🌐 www.nomeaeventi.it
URL:https://www.nomeaeventi.it/evento/successi-anni-70-e-80-nella-cornice-neogotica-della-chiesa-anglicana-di-napoli/
LOCATION:Chiesa Anglicana di Napoli\, Via San Pasquale a Chiaia 15B\, Napoli
END:VEVENT
BEGIN:VEVENT
DTSTART;VALUE=DATE:20251115
DTEND;VALUE=DATE:20251116
DTSTAMP:20260424T031247
CREATED:20250923T132803Z
LAST-MODIFIED:20250923T132803Z
UID:19672666-1763164800-1763251199@www.nomeaeventi.it
SUMMARY:Massimo e Pino - Teatro S.A.Maria de' Liguori - Pagani
DESCRIPTION:Massimo e Pino: Un Concerto Imperdibile a Pagani all’ interno del Teatro S. Alfonso Maria de’ Liguori \nSabato 15 novembre\, il Teatro-Auditorium si trasformerà in un viaggio emozionante con il concerto “Massimo e Pino”\, un evento che non puoi perdere! \nIn occasione del decennale dalla morte di Pino Daniele dopo il successo avuto nelle precedenti edizioni a Napoli e Milano NOMEA porta in scena uno dei suoi format più amati che ha già entusiasmato il pubblico in diverse occasioni. \nImmergiti in un’atmosfera unica\, celebrando la straordinaria amicizia tra Massimo Troisi e Pino Daniele. \nIn uno splendido contesto la voce di Bluenne e della super band accompagneranno i presenti in un viaggio musicale attraverso le melodie indimenticabili di Pino Daniele\, arricchito da racconti che rievocano l’inconfondibile spirito di Troisi. \nOrganizzazione: L’evento è ideato da NOMEA\, brand internazionale presente in Italia e all’estero. Insignita del ‘Premio Nativity in The World’ all’interno del 30° Concerto dell’Epifania 2025; organizzato in collaborazione con Associazione Culturale Libera…Mente Pagani \nPosti Limitati\nPrenotazione obbligatoria tramite messaggio Whatsapp 3756139180 – 3398675413\nDove: Teatro Auditorium S. Alfonso Maria de Liguori – Pagani\, Piazza Sant’ Alfonso\nQuando: Sabato 15 Novembre\nOrario: 18.30 Inizio evento\nTicket: €15 – Posti non numerati\, ingresso fino a esaurimento \nPrenota adesso \nscopri di più: www.nomeaeventi.it
URL:https://www.nomeaeventi.it/evento/massimo-e-pino-teatro-s-a-maria-de-liguori-pagani/
LOCATION:Teatro S. Alfonso Maria de’ Liguori\, Piazza Sant'Alfonso\,\, Pagani\, 84016\, Italy
END:VEVENT
BEGIN:VEVENT
DTSTART;VALUE=DATE:20251115
DTEND;VALUE=DATE:20251116
DTSTAMP:20260424T031247
CREATED:20251020T123244Z
LAST-MODIFIED:20251020T132037Z
UID:19672677-1763164800-1763251199@www.nomeaeventi.it
SUMMARY:La Reggia Incantata: Voci e Suoni di Partenope
DESCRIPTION:La Reggia Incantata: Voci e Suoni di Partenope\nUn viaggio emozionale tra arte\, musica e memoria nella maestosa Reggia di Portici \nSabato 15 novembre\, la Reggia di Portici apre le sue porte alla magia con il nuovo format Nomea: “La Reggia Incantata: Voci e Suoni di Partenope” — un evento esperienziale che intreccia musica\, narrazione e suggestioni visive in un racconto unico. \nTra gli eleganti ambienti del Piano Nobile dell’ Herculanense Museum\, il pubblico sarà guidato dalla voce narrante dell’attrice Annalucy Menafra\, in un percorso intimo che risveglia la memoria e la poesia della Napoli più autentica. \nLe esecuzioni dal vivo di Morena Chiara e Achille Campanile accompagneranno il viaggio con celebri brani della tradizione napoletana e composizioni originali\, creando un dialogo continuo tra passato e presente. \nVoci\, suoni e spazi si fonderanno in un’esperienza sensoriale di rara intensità\, dove la musica diventa luce e la Reggia si trasforma in un luogo dell’anima. \nOrganizzato da NOMEA  brand presente in Italia e all’estero che condivide emozioni con esperienze non convenzionali\, insignita del Premio Nativity in The World all’interno del 30° Concerto dell’Epifania 2025; in collaborazione con MUSA Reggia di Portici 7 \nI Posti sono limitati \n Prenotazione obbligatoria tramite whatsapp: 375 613918 \n📍 Location: Reggia di Portici – Piano Nobile \n📅 Data: 15 Novembre 2025 \n⏰ Turni di accesso:  \n\nApertura Biglietteria: 17.00 – Inizio Evento: 17.30 – Fine Evento: 18.30\nApertura Biglietteria: 19.00 – Inizio Evento: 19.30 – Fine Evento: 20.30\nApertura Biglietteria: 21.00 – Inizio Evento:: 21.30 – Fine Evento: 22.30\n\n🚗 Parcheggio gratuito negli spazi della Reggia \n www.nomeaeventi.it  \n👉 La Reggia Incantata: Voci di Partenope è un’occasione unica per vivere la Reggia di Portici in modo inedito: un’esperienza sensoriale che fonde arte\, musica e racconto per restituire voce all’identità più profonda di Partenope \nPrenota adesso
URL:https://www.nomeaeventi.it/evento/la-reggia-incantata-voci-e-suoni-di-partenope/
LOCATION:Reggia di Portici\, Piazza Carlo di Borbone\, Portici\, Italy
END:VEVENT
BEGIN:VEVENT
DTSTART;VALUE=DATE:20251123
DTEND;VALUE=DATE:20251124
DTSTAMP:20260424T031247
CREATED:20251020T124205Z
LAST-MODIFIED:20251020T124205Z
UID:19672681-1763856000-1763942399@www.nomeaeventi.it
SUMMARY:Colonne Sonore a S.M. La Nova
DESCRIPTION:Colonne Sonore a S. Maria La Nova\nLa musica del grande cinema con omaggi a Morricone \nDopo il successo delle precedenti edizioni\, Colonne Sonore a S. Maria La Nova torna ad emozionare il pubblico con un nuovo appuntamento dedicato alla musica del grande cinema. \n📅 Domenica 23 novembre 2025\, alle ore 18.30\, il Complesso Monumentale di Santa Maria La Nova — uno dei luoghi più affascinanti e misteriosi del centro storico di Napoli — farà da cornice a un concerto che celebra le melodie immortali del cinema internazionale\, con omaggi al Maestro Ennio Morricone\, patrimonio musicale riconosciuto in tutto il mondo. \nA partire dalle ore 17.30\, il pubblico potrà visitare liberamente gli spazi del complesso\, dal chiostro seicentesco al Cappellone di San Giacomo della Marca\, fino all’Antico Refettorio e alla suggestiva area che\, secondo recenti studi storici\, potrebbe custodire la tomba di Vlad III l’Impalatore\, la figura che ha ispirato il mito di Dracula. \nUn percorso che unisce arte\, storia e mistero\, culminando nel concerto delle ore 18.30: un trio di musicisti\, selezionati tra i migliori talenti campani\, guiderà il pubblico in un viaggio emozionale tra le colonne sonore che hanno segnato la storia del cinema.\nLe melodie risuoneranno tra le navate e sotto il soffitto cassettonato dorato della chiesa\, creando un’atmosfera sospesa nel tempo. \nL’evento è ideato e prodotto da NOMEA\, brand presente in Italia e all’estero che condivide emozioni con esperienze non convenzionali\, insignita del Premio Nativity in The World all’interno del 30° Concerto dell’Epifania 2025 in collaborazione con il Complesso Monumentale di Santa Maria la Nova. \n📍 Complesso Monumentale di Santa Maria La Nova – Napoli \n  Domenica 23 Novembre 2025\n ⏰ h. 17.30 apertura biglietteria e visita libera\n 🎶 h. 18.30 concerto\n 🎟️ Adulti €20 | Ragazzi 6–17 anni €10 | Bambini fino a 5 anni ingresso gratuito\n 📲 Prenotazione obbligatoria via WhatsApp: 375 6139180 \n🚇 A pochi minuti dalle fermate Università\, Toledo (Metro Linea 1) e Montesanto (Linea 2)\n 🚗 Parcheggi privati disponibili nelle immediate vicinanze \nwww.nomeaeventi.it  \n👉 Colonne Sonore a S. Maria La Nova è un evento Nomea che unisce musica\, bellezza e patrimonio storico\, regalando al pubblico un’esperienza immersiva nel cuore di Napoli. \nPrenota adesso
URL:https://www.nomeaeventi.it/evento/colonne-sonore-a-s-m-la-nova/
LOCATION:Complesso Monumentale Santa Maria La Nova\, Piazza S. Maria la Nova\, 44\, Napoli\, 80134
END:VEVENT
BEGIN:VEVENT
DTSTART;VALUE=DATE:20251129
DTEND;VALUE=DATE:20251130
DTSTAMP:20260424T031247
CREATED:20251020T124831Z
LAST-MODIFIED:20251021T075127Z
UID:19672684-1764374400-1764460799@www.nomeaeventi.it
SUMMARY:Aperitivo Artistico al Centro Musei delle Scienze Naturali e Fisiche
DESCRIPTION:Aperitivo Artistico al Centro Musei delle Scienze Naturali e Fisiche\nUn viaggio tra musica\, danza e cultura in uno dei luoghi più esclusivi di Napoli \nL’esperienza Aperitivo Artistico torna a Napoli con una nuova\, straordinaria edizione che unisce arte\, danza e cultura in un contesto di rara bellezza.\nSabato 29 novembre 2025\, il Centro Musei delle Scienze Naturali e Fisiche dell’Università Federico II aprirà eccezionalmente le sue porte per trasformarsi in un palcoscenico immersivo e sensoriale. \nUn’occasione unica per vivere la magia dei musei universitari in una veste completamente nuova tra le collezioni di Mineralogia\, Zoologia\, Antropologia e Fisica in una cornice perfetta per un evento che unisce cultura e creatività (Paleontologia non visitabile durante la serata)\n\nL’evento si aprirà con la coreografia “Immagini” firmata da Irma Cardano\, artista di fama internazionale. I Danzatori daranno vita a un racconto poetico e visivo\, mentre l’attore Giovanni Del Monte\, noto per le sue apparizioni in svariate fiction televisive\, guiderà gli spettatori lungo le sale museali\, intrecciando parole\, curiosità e atmosfere.\nIl momento culminante sarà una performance di danza finale all’interno della sala monumentale dei minerali\, che custodisce oltre 45.000 esemplari provenienti da tutto il mondo: un luogo di meraviglia\, dove la scienza incontra la poesia del movimento. \nUn evento esclusivo\, ideato e prodotto da Nomea\, brand internazionale che crea esperienze non convenzionali e insignito del Premio Nativity in The World all’interno del 30° Concerto dell’Epifania 2025\, in collaborazione con il Centro Musei delle Scienze Naturali e Fisiche. \n📌 Posti limitati – Prenotazione obbligatoria \n📲 Solo tramite messaggio WhatsApp: 375 6139180 \n📅 Quando: Sabato 29 novembre 2025 \n⏰ Turni di accesso: 17.00 – 19.00 – 21.00 \n📍 Dove: Centro Musei delle Scienze Naturali e Fisiche\, Via Mezzocannone n° 8\, Napoli \n🎟️ Contributo di partecipazione: €20 adulti (Aperitivo di Benvenuto + Visita + Performance Artistiche)  \n€10 ragazzi fino a 17 anni (Visita + Performance Artistiche) \n👧 Età consigliata: a partire da 11 anni \n🌐 www.nomeaeventi.it \n👉 Aperitivo Artistico è molto più di un evento: è un viaggio sensoriale tra danza\, racconto e bellezza\, che restituisce nuova vita e significato a uno dei luoghi culturali più affascinanti di Napoli. \nPrenota adesso
URL:https://www.nomeaeventi.it/evento/aperitivo-artistico-al-centro-musei-delle-scienze-naturali-e-fisiche/
LOCATION:Centro Musei delle Scienze Naturali e Fisiche dell’Università degli Studi di Napoli Federico II\, Via Mezzocannone\, 8\,\, Napoli\, Italy
END:VEVENT
END:VCALENDAR