BEGIN:VCALENDAR
VERSION:2.0
PRODID:-//Nomea - ECPv6.15.20//NONSGML v1.0//EN
CALSCALE:GREGORIAN
METHOD:PUBLISH
X-ORIGINAL-URL:https://www.nomeaeventi.it
X-WR-CALDESC:Eventi per Nomea
REFRESH-INTERVAL;VALUE=DURATION:PT1H
X-Robots-Tag:noindex
X-PUBLISHED-TTL:PT1H
BEGIN:VTIMEZONE
TZID:Europe/Rome
BEGIN:DAYLIGHT
TZOFFSETFROM:+0100
TZOFFSETTO:+0200
TZNAME:CEST
DTSTART:20240331T010000
END:DAYLIGHT
BEGIN:STANDARD
TZOFFSETFROM:+0200
TZOFFSETTO:+0100
TZNAME:CET
DTSTART:20241027T010000
END:STANDARD
BEGIN:DAYLIGHT
TZOFFSETFROM:+0100
TZOFFSETTO:+0200
TZNAME:CEST
DTSTART:20250330T010000
END:DAYLIGHT
BEGIN:STANDARD
TZOFFSETFROM:+0200
TZOFFSETTO:+0100
TZNAME:CET
DTSTART:20251026T010000
END:STANDARD
BEGIN:DAYLIGHT
TZOFFSETFROM:+0100
TZOFFSETTO:+0200
TZNAME:CEST
DTSTART:20260329T010000
END:DAYLIGHT
BEGIN:STANDARD
TZOFFSETFROM:+0200
TZOFFSETTO:+0100
TZNAME:CET
DTSTART:20261025T010000
END:STANDARD
END:VTIMEZONE
BEGIN:VEVENT
DTSTART;VALUE=DATE:20250606
DTEND;VALUE=DATE:20250607
DTSTAMP:20260424T110819
CREATED:20250424T132425Z
LAST-MODIFIED:20250514T153654Z
UID:19672570-1749168000-1749254399@www.nomeaeventi.it
SUMMARY:Amelie Experience: Un Viaggio nel Cuore di Napoli tra Musica\, Teatro e Gusto
DESCRIPTION:Amelie Experience: Un Viaggio nel Cuore di Napoli tra Musica\, Teatro e Gusto con NOMEA e Palazzo Venezia 🎭\n \nDopo il grande successo della prima edizione\, NOMEA è entusiasta di tornare nella splendida cornice del Palazzo Venezia con Amelie Experience 🌟 \nPreparati a vivere una serata unica\, dove musica\, monologhi e gusto si fondono per portarti nell’universo poetico e sognante de Il Favoloso Mondo di Amélie. 🎶💫 \nLasciati incantare dalla magica atmosfera della Casina Pompeiana\, immersa nel particolare Giardino Pensile\, con un’esperienza che unisce l’eleganza di Napoli al fascino parigino di Amélie. 🏛️✨ \nLe note delle indimenticabili musiche di Yann Tiersen risuoneranno dal vivo grazie alla talentuosa pianista Valentina Ambrosanio\, che proporrà un coinvolgente viaggio sonoro con sue rielaborazioni che comprenderanno anche altri autori dello stesso genere. 🎻 Valentina è anche co-autrice dell’album Amelie Project. 🎵 \nTra i suggestivi spazi del Palazzo si alterneranno alla musica i fantastici monologhi ispirati al celebre film\, con l’attrice Annalucy Menafra che ti condurrà in un’esperienza unica. \nNon mancherà un aperitivo con vino e stuzzicherie per far vivere l’evento anche all’insegna dell’amicizia. \n🎟️ Costo: 20 Euro (Musica\, Monologhi\, vino 🍷 e stuzzicherie 🍴)\n ⚠️ Posti Limitati – Prenotazione Obbligatoria! \n  \n📅 Quando: Venerdì 6 Giugno\n 📍 Dove: Palazzo Venezia Napoli – Via Benedetto Croce n° 19\n 🕰️ Orari: 21.30 \n 📱 Prenotazione obbligatoria tramite WhatsApp: 3756139180 \nPrenota adesso
URL:https://www.nomeaeventi.it/evento/amelie-experience-un-viaggio-nel-cuore-di-napoli-tra-musica-teatro-e-gusto/
LOCATION:Palazzo Venezia\, Napoli\, Via B. Croce n. 19\, Napoli\, 80134\, Italia
END:VEVENT
BEGIN:VEVENT
DTSTART;VALUE=DATE:20250607
DTEND;VALUE=DATE:20250608
DTSTAMP:20260424T110819
CREATED:20250526T151746Z
LAST-MODIFIED:20250526T151746Z
UID:19672600-1749254400-1749340799@www.nomeaeventi.it
SUMMARY:La Nova Chiostro in Musica: Emozioni e Note dal Mediterraneo
DESCRIPTION:🎶 La Nova Chiostro in Musica – Suoni dal Mediterraneo\n 📍 Complesso Monumentale di Santa Maria La Nova\, Napoli\n 📅 Sabato 7 giugno 2025 \nSabato 7 giugno\, nella magica cornice del Chiostro seicentesco del Complesso Monumentale di Santa Maria La Nova\, torna l’atteso appuntamento con “La Nova Chiostro in Musica”\, la rassegna musicale organizzata da NOMEA. Una serata speciale\, dove musica\, arte e storia si fondono in un’esperienza unica. \n✨ Tema dell’edizione 2025:\n Suoni dal Mediterraneo – un viaggio sonoro attraverso una selezione di artisti e progetti originali capaci di emozionare e sorprendere. \n🌟 Concerto della serata:\nProtagonista dell’evento sarà il duo formato dal cantautore Samuel Mele e dal chitarrista Fabio Moschettini. Samuel\, vincitore del bando “Per Chi Crea” 2023 promosso da SIAE e Ministero della Cultura\, presenterà i suoi brani inediti in cui la canzone d’autore si fonde con radici tradizionali\, new folk\, world music e suggestioni medio-orientali. \n🏛️ Visita al sito storico:\n Prima del concerto\, il pubblico potrà visitare liberamente gli affascinanti spazi del complesso monumentale\, aperti in via straordinaria per l’occasione. \n📌 Informazioni utili: \n\n📍 Dove: Piazza S. Maria la Nova\, 44 – Napoli\n\n🕗 Orari: \n\nApertura biglietteria: ore 20:00\nInizio concerto: ore 21:00\nFine evento: ore 22:00\n\n🎟️ Contributo di partecipazione: \n\nAdulti: €20\nRagazzi (6-17 anni): €10\nBambini (0-5 anni): gratuito\n\n\n📲 Prenotazione obbligatoria via WhatsApp: 375 6139180\n Posti limitati – prenota subito! \n🎼 Non perdere l’occasione di vivere una serata immersa nella bellezza\, tra musica\, storia e cultura! \n☔ In caso di maltempo\, l’evento si svolgerà comunque negli spazi interni dello storico complesso\, per garantire a tutti un’esperienza confortevole e indimenticabile. \nPrenota adesso
URL:https://www.nomeaeventi.it/evento/la-nova-chiostro-in-musica-emozioni-e-note-dal-mediterraneo/
LOCATION:Complesso Monumentale Santa Maria La Nova\, Piazza S. Maria la Nova\, 44\, Napoli\, 80134
END:VEVENT
BEGIN:VEVENT
DTSTART;VALUE=DATE:20250615
DTEND;VALUE=DATE:20250616
DTSTAMP:20260424T110819
CREATED:20250520T174347Z
LAST-MODIFIED:20250520T174347Z
UID:19672593-1749945600-1750031999@www.nomeaeventi.it
SUMMARY:🎶 Made in Naples: La Musica di Partenope al Parco Borbonico del Fusaro
DESCRIPTION:🎶 Made in Naples: La Musica di Partenope\nDomenica 15 Giugno  2025 – Parco Borbonico del Fusaro – Bacoli (NA) \nNella suggestiva cornice del Parco Borbonico del Fusaro arriva per la prima volta uno dei concerti NOMEA più amati: Made in Naples: La Musica di Partenope \nDopo il successo avuto a Milano torna in campania il talento viscerale di Enzo Colursi in arte Luk\, accompagnato da Lorenzo Campese alla tastiera\, dando vita a un concerto emozionante che celebra l’anima più autentica della musica napoletana che avrà come sfondo naturalistico il lago fusaro e la sua meravigliosa Casina Vanvitelliana \nUn viaggio musicale nelle intramontabili canzoni classiche napoletane che il cantante  con la sua capacità di trasmettere passione e intensità trasforma ogni singola nota in un percorso emozionale che va oltre il semplice concerto rendendo l’evento una vera e propria esperienza sensoriale. \nLa sua voce potente e carica di emozione lo ha portato ad essere finalista al Premio De Andrè\, vincitore di Musicultura e Music for Change oltre allo storico premio Masaniello. Il suo tratto distintivo è la capacità di toccare le corde più profonde dell’ascoltatore\, immergendolo nel mondo viscerale e travolgente della musica partenopea dalle canzoni classiche a quelle moderne. \nUn evento unico organizzato da NOMEA brand presente in Italia e all’Estero\, in collaborazione con il Parco Borbonico del Fusaro\, Centro Ittico Campano e Comune di Bacoli  \nPosti Limitati!  \n\nInizio ore 21.00 – Ticket Unico: 20€ \nGratuito da 0 a 5 anni\nTicket acquistabile esclusivamente online: https://bit.ly/4muHO00 \nMaggiori Informazioni tramite messaggio whatsapp: +39 375 613 9180\nParcheggio comunale a pochi metri
URL:https://www.nomeaeventi.it/evento/%f0%9f%8e%b6-made-in-naples-la-musica-di-partenope-al-parco-borbonico-del-fusaro/
LOCATION:Parco Borbonico del Fusaro\, Piazza Gioacchino Rossini n° 2\, Bacoli\, 80070\, Italy
END:VEVENT
BEGIN:VEVENT
DTSTART;VALUE=DATE:20250621
DTEND;VALUE=DATE:20250622
DTSTAMP:20260424T110819
CREATED:20250610T144451Z
LAST-MODIFIED:20250616T062751Z
UID:19672605-1750464000-1750550399@www.nomeaeventi.it
SUMMARY:Concerti al Tramonto: Colonne Sonore a Pietrarsa 
DESCRIPTION:Concerti al Tramonto – Colonne Sonore a Pietrarsa  \nSabato 21 Giugno | Museo Nazionale Ferroviario di Pietrarsa \nAl Museo Nazionale Ferroviario di Pietrarsa\, sabato 21 giugno\, si inaugura la nuova rassegna “Concerti al Tramonto”\, con un evento unico dove la magia della musica si fonde con uno degli scorci più affascinanti della Campania: la spettacolare vista sul Golfo di Napoli. Al calare del sole\, infatti\, il panorama diventa magico tingendosi di luce dorata  regalando emozioni indimenticabili. \nIn questa atmosfera senza tempo\, circondati dal mare e dalle architetture dell’ex opificio borbonico\, un raffinato trio di musicisti composto da Guido Esposito – Violino\, Raffaele Sorrentino – Violoncello e Sossio Noviello – Pianoforte\, accompagnerà il pubblico in un viaggio musicale dedicato alle più celebri colonne sonore del cinema\, con omaggi speciali a Ennio Morricone e ad altri grandi compositori che hanno fatto la storia della musica per il grande schermo. \nUn’esperienza d’ascolto intensa e suggestiva\, in cui il tramonto diventa parte integrante dello spettacolo\, illuminando la scena e rendendo ogni nota ancora più evocativa. \nL’Arena del Museo Nazionale Ferroviario di Pietrarsa\, si affaccia direttamente sul mare\, offrendo un punto di vista mozzafiato tra arte e natura. I visitatori potranno anche esplorare liberamente i padiglioni del museo con la collezione unica di locomotive storiche\, uno straordinario esempio di archeologia industriale. \nL’evento è organizzato da NOMEA\, brand internazionale presente in Italia\, Spagna e Albania\, insignito del Premio Nativity in The World all’interno del 30° Concerto dell’Epifania 2025. \nPosti limitati! \nPrenotazione obbligatoria tramite messaggio WhatsApp: 3756139180 \n📍 Dove: Museo Nazionale Ferroviario di Pietrarsa \n 📅 Quando: Sabato 21 Giugno \n 🕠 Orario: ore 18.00 Apertura Biglietteria – 19.30 Inizio concerto \n 🎟 Ticket: €15 (Concerto + Ingresso Museo) \n*in caso di maltempo\, l’evento si terrà nei padiglioni interni del museo. \n🌅 Musica e tramonto sul mare: vivi un’emozione che resterà nel cuore. \nMaggiori info: www.nomeaeventi.it \n 
URL:https://www.nomeaeventi.it/evento/concerti-al-tramonto-colonne-sonore-a-pietrarsa/
LOCATION:Museo di Pietrarsa\, Napoli\, Via Pietrarsa\, Napoli\, 80146\, Italia
END:VEVENT
END:VCALENDAR