BEGIN:VCALENDAR
VERSION:2.0
PRODID:-//Nomea - ECPv6.15.20//NONSGML v1.0//EN
CALSCALE:GREGORIAN
METHOD:PUBLISH
X-WR-CALNAME:Nomea
X-ORIGINAL-URL:https://www.nomeaeventi.it
X-WR-CALDESC:Eventi per Nomea
REFRESH-INTERVAL;VALUE=DURATION:PT1H
X-Robots-Tag:noindex
X-PUBLISHED-TTL:PT1H
BEGIN:VTIMEZONE
TZID:Europe/Rome
BEGIN:DAYLIGHT
TZOFFSETFROM:+0100
TZOFFSETTO:+0200
TZNAME:CEST
DTSTART:20240331T010000
END:DAYLIGHT
BEGIN:STANDARD
TZOFFSETFROM:+0200
TZOFFSETTO:+0100
TZNAME:CET
DTSTART:20241027T010000
END:STANDARD
BEGIN:DAYLIGHT
TZOFFSETFROM:+0100
TZOFFSETTO:+0200
TZNAME:CEST
DTSTART:20250330T010000
END:DAYLIGHT
BEGIN:STANDARD
TZOFFSETFROM:+0200
TZOFFSETTO:+0100
TZNAME:CET
DTSTART:20251026T010000
END:STANDARD
BEGIN:DAYLIGHT
TZOFFSETFROM:+0100
TZOFFSETTO:+0200
TZNAME:CEST
DTSTART:20260329T010000
END:DAYLIGHT
BEGIN:STANDARD
TZOFFSETFROM:+0200
TZOFFSETTO:+0100
TZNAME:CET
DTSTART:20261025T010000
END:STANDARD
END:VTIMEZONE
BEGIN:VEVENT
DTSTART;VALUE=DATE:20250405
DTEND;VALUE=DATE:20250406
DTSTAMP:20260424T140030
CREATED:20250324T132625Z
LAST-MODIFIED:20250324T132625Z
UID:19672536-1743811200-1743897599@www.nomeaeventi.it
SUMMARY:Omaggio a Lucio Dalla nella meravigliosa Chiesa Anglicana di Napoli
DESCRIPTION:Omaggio a Lucio Dalla: NOMEA torna con un nuovo format dedicato ad un’icona della Musica Italiana nella meravigliosa cornice della Chiesa Anglicana di Napoli. \nLa grande attesa è finita\, dopo il grande successo riscosso dei precedenti concerti della rassegna potrai ascoltare il cantante Luk che con la sua capacità di trasmettere passione e intensità trasforma ogni singola nota in un viaggio emozionale che va oltre il semplice concerto rendendo l’evento una vera e propria esperienza sensoriale. \nLa sua voce potente e carica di emozione lo ha portato ad essere finalista al Premio De Andrè\, vincitore di Musicultura e Music for Change oltre allo storico premio Masaniello.  \nIl suo tratto distintivo è la capacità di toccare le corde più profonde dell’ascoltatore e sarà accompagnato alla tastiera da Lorenzo Campese \nGli indimenticabili capolavori rivivranno in un’interpretazione unica che trasporterà il pubblico in un viaggio musicale senza tempo.  \nNon perdere l’occasione di vivere una serata indimenticabile\, riscoprendo il sound che emoziona il mondo  \nLuogo: Chiesa Anglicana di Napoli –  caratterizzata da architetture neogotiche è il luogo ideale dove lasciarsi trasportare dalla magia della musica tra le sue colonne e particolari decorazioni  \nOrganizzazione: L’evento è ideato e prodotto  da NOMEA\, brand presente in Italia\, Spagna e Albania. NOMEA condivide emozioni con esperienze non convenzionali\, presente nei maggiori siti di interesse storico tra i quali la Reggia di Caserta grazie al gruppo aziendale vincitore del bando SEMI – Sviluppo e Meraviglia d’Impresa. Impegnata anche nella valorizzazione dei talenti musicali internazionali con progetti online e festival dedicati. Insignita del ‘Premio Nativity in The World’ all’interno del 30° Concerto dell’Epifania 2025 \n\nQuando: Sabato 5 Aprile  2025\nOrari: h. 17.45 apertura biglietteria – h. 18.30 inizio concerto\nTicket:  15€ adulti –  gratuito per bambini fino a 5 anni\nPrenotazione obbligatoria tramite messaggio Whatsapp: 3756139180\nDove: Chiesa Anglicana di Napoli  – Via S. Pasquale\, 15B\, Napoli\n\nParcheggi privati a pochi passi dalla chiesa.\nFacilmente raggiungibile dalla fermata Piazza Amedeo della Linea Metro 2 \nwww.nomeaeventi.it  \nPrenota adesso
URL:https://www.nomeaeventi.it/evento/omaggio-a-lucio-dalla-nella-meravigliosa-chiesa-anglicana-di-napoli/
LOCATION:Chiesa Anglicana di Napoli\, Via San Pasquale a Chiaia 15B\, Napoli
END:VEVENT
BEGIN:VEVENT
DTSTART;VALUE=DATE:20250413
DTEND;VALUE=DATE:20250414
DTSTAMP:20260424T140030
CREATED:20250328T161643Z
LAST-MODIFIED:20250328T162134Z
UID:19672547-1744502400-1744588799@www.nomeaeventi.it
SUMMARY:Jazz a Pietrarsa: esperienza unica tra musica e locomotive d'epoca
DESCRIPTION:Domenica 13 Aprile NOMEA organizzerà l’evento “Jazz a Pietrarsa”\, un’emozionante esperienza di ascolto dedicata a questo genere intramontabile all’interno dell‘incantevole Museo Nazionale Ferroviario di Pietrarsa. \nDopo il grande successo riscosso nell’ultimo concerto a Milano lo straordinario trio Jazz Do It ritorna in Campania. \nNOMEA farà conoscere al pubblico questo gruppo di talentuosi musicisti composto dall’ inconfondibile voce di Lisa Iavarone\, la batteria di Emilio Pietropaolo e la chitarra di Antonio Palumbo \nI musicisti proporranno standard e cover internazionali rielaborate in chiave Jazz con brani iconici che rivivranno in un’interpretazione unica che trasporterà il pubblico in un viaggio musicale senza tempo.  \nNon perdere l’occasione di vivere una serata indimenticabile\, riscoprendo il sound irresistibile jazz in un sito storico esclusivo. \nL’ex opificio borbonico\, gestito  dalla Fondazione FS e trasformato in un sito museale unico nel suo genere\, ospita negli antichi padiglioni – pregevole esempio di archeologia architettonica e industriale – una ricca collezione di locomotive storiche\, visitabili liberamente in occasione della serata. \nL’evento è organizzato da NOMEA\, brand internazionale presente in Italia e all’estero  Insignita del ‘Premio Nativity in The World’ all’interno del 30° Concerto dell’Epifania 2025 \nPosti Limitati \nPrenotazione obbligatoria  tramite messaggio Whatsapp 3756139180  \nDove: Museo Nazionale Ferroviario di Pietrarsa \nQuando: domenica 13 aprile  \nOrario: ore 18.00 Biglietteria – 18.30 Inizio evento \nTicket: €15 (Ingresso Museo – Musica) \nPrenota adesso\n 
URL:https://www.nomeaeventi.it/evento/jazz-a-pietrarsa-esperienza-unica-tra-musica-e-locomotive-depoca/
LOCATION:Museo di Pietrarsa\, Napoli\, Via Pietrarsa\, Napoli\, 80146\, Italia
END:VEVENT
BEGIN:VEVENT
DTSTART;VALUE=DATE:20250426
DTEND;VALUE=DATE:20250427
DTSTAMP:20260424T140030
CREATED:20250331T130459Z
LAST-MODIFIED:20250331T131732Z
UID:19672551-1745625600-1745711999@www.nomeaeventi.it
SUMMARY:Made in Naples: La Musica di Partenope a S. M. La Nova
DESCRIPTION:Made in Naples: La Musica di Partenope\nUn concerto emozionante nel cuore di Napoli \nLa magia della musica napoletana ritorna con “Made in Naples: La Musica di Partenope”\, un concerto esclusivo che vedrà protagonista Cristina Cafiero\, cantante dal talento raffinato\, in trio esplorerà la vasta gamma della musica napoletana\, dai classici intramontabili a pezzi inediti di Cafiero. \nL’evento si terrà sabato 26 Aprile 2025 presso il Complesso di Santa Maria la Nova nel centro di Napoli un luogo che farà da cornice a un’esperienza musicale unica e coinvolgente. \n“Made In Naples” offre un’opportunità esclusiva di vivere la musica napoletana in uno dei suoi siti storici più suggestivi che sarà visitabile prima del concerto.  \nCristina Cafiero è una figura eminente nel panorama musicale italiano\, nota per la sua profonda connessione con le radici culturali di Napoli. Vincitrice della targa “Miglior Interpretazione” al Premio Bianca d’Aponte 2023 e diplomata in scrittura di testi al C.E.T di Mogol\, Cafiero ha già dimostrato il suo talento in numerose occasioni prestigiose\, tra cui esibizioni memorabili al Palapartenope di Napoli ed in occasione del concerto in soldout ‘Made in Naples’ al Maschio Angioino con NOMEA per ‘Estate a Napoli 2024’. Per l’occasione sarà accompagnata da Antonio D’Apolito alla chitarra e Pasquale di Lascio alle percussioni. \nL’evento fa parte del format di successo NOMEA\, già consolidato e apprezzato dal pubblico\, Italiano che torna a Napoli dopo il grande successo delle edizioni precedenti.  \nNOMEA è un’organizzazione con sede in Italia e all’estero che condivide emozioni con esperienze artistiche non convenzionali. Impegnata anche nella valorizzazione dei giovani  talenti musicali con festival internazionali dedicati. Insignita del ‘Premio Nativity in The World’ all’interno del 30° Concerto dell’Epifania 2025 \nDove: Complesso Monumentale di S. Maria La Nova –  Piazza S. Maria la Nova\, 44 – Napoli\nQuando: Sabato 26 Aprile  2025 \nOrario d’ ingresso: 18.00 apertura biglietteria e visita libera al Complesso – h. 19.00 concerto \nTicket:  Adulti 20€ settore unico – 6-17 anni 10€ – 0-5 anni Gratuito \nPrenotazione obbligatoria: \n\n\nPrenota adesso\n\n\n 
URL:https://www.nomeaeventi.it/evento/made-in-naples-la-musica-di-partenope-a-s-m-la-nova/
LOCATION:Complesso Monumentale Santa Maria La Nova\, Piazza S. Maria la Nova\, 44\, Napoli\, 80134
END:VEVENT
END:VCALENDAR