BEGIN:VCALENDAR
VERSION:2.0
PRODID:-//Nomea - ECPv6.15.20//NONSGML v1.0//EN
CALSCALE:GREGORIAN
METHOD:PUBLISH
X-WR-CALNAME:Nomea
X-ORIGINAL-URL:https://www.nomeaeventi.it
X-WR-CALDESC:Eventi per Nomea
REFRESH-INTERVAL;VALUE=DURATION:PT1H
X-Robots-Tag:noindex
X-PUBLISHED-TTL:PT1H
BEGIN:VTIMEZONE
TZID:Europe/Rome
BEGIN:DAYLIGHT
TZOFFSETFROM:+0100
TZOFFSETTO:+0200
TZNAME:CEST
DTSTART:20240331T010000
END:DAYLIGHT
BEGIN:STANDARD
TZOFFSETFROM:+0200
TZOFFSETTO:+0100
TZNAME:CET
DTSTART:20241027T010000
END:STANDARD
BEGIN:DAYLIGHT
TZOFFSETFROM:+0100
TZOFFSETTO:+0200
TZNAME:CEST
DTSTART:20250330T010000
END:DAYLIGHT
BEGIN:STANDARD
TZOFFSETFROM:+0200
TZOFFSETTO:+0100
TZNAME:CET
DTSTART:20251026T010000
END:STANDARD
BEGIN:DAYLIGHT
TZOFFSETFROM:+0100
TZOFFSETTO:+0200
TZNAME:CEST
DTSTART:20260329T010000
END:DAYLIGHT
BEGIN:STANDARD
TZOFFSETFROM:+0200
TZOFFSETTO:+0100
TZNAME:CET
DTSTART:20261025T010000
END:STANDARD
END:VTIMEZONE
BEGIN:VEVENT
DTSTART;VALUE=DATE:20250201
DTEND;VALUE=DATE:20250202
DTSTAMP:20260424T163800
CREATED:20250117T164822Z
LAST-MODIFIED:20250117T164822Z
UID:19672477-1738368000-1738454399@www.nomeaeventi.it
SUMMARY:Omaggio ai Beatles: torna uno dei concerti più amati a Napoli
DESCRIPTION:Omaggio ai Beatles: Torna uno dei concerti più amati a Napoli proponendo  un emozionante  viaggio musicale con il concerto Omaggio ai Beatles\, un evento che non puoi perdere \nDopo il grande successo riscosso nelle precedenti edizioni torna il concerto dedicato alla leggendaria band britannica\, i Beatles\, con una nuova ed emozionante esibizione.  \nNOMEA proporrà al pubblico partenopeo ‘Here Came the Trio’\, composto da Voce/Chitarra\, Basso e Tastiera\, trio che ha fatto impazzire il pubblico nelle passate edizioni offrendo una performance straordinaria che ripercorre i più grandi successi della band di Liverpool. \nIl Cantante del gruppo sarà Daniele Montuori\, in arte ‘A Smile From Godzilla’ \, artista che con la sua sensibilità e coinvolgente voce è stato ospite a Casa Sanremo con i finalisti di Music For Change; pubblicherà nel 2025 il suo terzo album ‘Lost Tapes’. Nel concerto sarà accompagnato dai musicisti Antonio Paduano e Roberto Guardi. I musicisti debutteranno con questo concerto a Milano il 22 Febbraio. \nI brani più iconici\, rivivranno in un’interpretazione unica che trasporterà il pubblico in un viaggio musicale senza tempo.  \nNon perdere l’occasione di vivere una serata indimenticabile\, riscoprendo il sound che ha cambiato la storia della musica. Preparatevi a rivivere la magia dei Beatles! \nLuogo: Chiesa Anglicana di Napoli –  caratterizzata da architetture neogotiche è il luogo ideale dove lasciarsi trasportare dalla magia della musica tra le sue colonne e particolari decorazioni  \nOrganizzazione: L’evento è ideato e prodotto  da NOMEA\, brand presente in Italia\, Spagna e Albania. NOMEA condivide emozioni con esperienze non convenzionali\, presente nei maggiori siti di interesse storico tra i quali la Reggia di Caserta grazie al gruppo aziendale vincitore del bando SEMI – Sviluppo e Meraviglia d’Impresa. Impegnata anche nella valorizzazione dei talenti musicali internazionali con progetti online e festival dedicati. Insignita del ‘Premio Nativity in The World’ all’interno del 30° Concerto dell’Epifania 2025 \n\nOrari: h. 17.45 apertura biglietteria – h. 18.30 inizio concerto\nTicket:  15€ adulti –  gratuito per bambini fino a 5 anni\nPrenotazione obbligatoria tramite messaggio Whatsapp: 3756139180\nDove: Chiesa Anglicana di Napoli  – Via S. Pasquale\, 15B\, Napoli\n\nParcheggi privati a pochi passi dalla chiesa.\nFacilmente raggiungibile dalla fermata Piazza Amedeo della Linea Metro 2. \n\nQuando: Sabato 1 Febbraio  2025\nPrenota adesso\n\nNon mancare a questo straordinario concerto\, una celebrazione della musica e dell’amicizia
URL:https://www.nomeaeventi.it/evento/omaggio-ai-beatles-torna-uno-dei-concerti-piu-amati-a-napoli/
LOCATION:Chiesa Anglicana di Napoli\, Via San Pasquale a Chiaia 15B\, Napoli
END:VEVENT
BEGIN:VEVENT
DTSTART;VALUE=DATE:20250208
DTEND;VALUE=DATE:20250209
DTSTAMP:20260424T163800
CREATED:20250129T113404Z
LAST-MODIFIED:20250129T114152Z
UID:19672484-1738972800-1739059199@www.nomeaeventi.it
SUMMARY:Sogni Sommersi: Musica e Racconti nel Sottosuolo Napoletano
DESCRIPTION:Sabato\, 8 febbraio 2025\, nel centro storico di Napoli\, il LAPIS Museum\, in collaborazione con NOMEA\, ospita un nuovo format\, un’esperienza unica\, lungo una straordinaria quinta naturale: il Museo dell’Acqua. \nSogni Sommersi\,  è un viaggio nelle profondità della città\, un percorso tra storia\, racconti e melodie che risvegliano l’anima partenopea. \nUna giovane voce narrante della serata\, svela dettagli di musiche senza tempo. \nI partecipanti saranno guidati attraverso le suggestive atmosfere sotterranee dell’Antica Partenope. Un’immersione in una Napoli intima e inedita\, fatta di attese\, amori sospesi e racconti dimenticati che riaffiorano dalle ombre del passato. \nAd ogni tappa\, più voci daranno vita ad un’esecuzione calda e coinvolgente. I brani più noti della tradizione napoletana saranno reinterpretati in un’atmosfera suggestiva\, regalando emozioni intense e indimenticabili. Melodie che parlano di passione\, dolore e speranza\, risuoneranno tra le antiche mura\, toccando nel profondo l’animo di ogni ascoltatore. \nI visitatori partiranno dall’antica cripta\, suggestiva cornice dell’evento\, con un aperitivo tipico napoletano\, omaggio ai sapori autentici della città\, per poi proseguire lungo un percorso sotterraneo di circa un chilometro. \nIn questi ambienti sotterranei\, il tempo sembra fermarsi\, invitando a lasciarsi trasportare da un’atmosfera onirica. \nSogni Sommersi è un evento esperienziale organizzato da NOMEA all’interno del percorso sotterraneo del LAPIS Museum\, che comprende il Museo dell’Acqua e il suo Decumano Sommerso. Un percorso che va oltre la semplice visita! \nUn viaggio nel cuore di Napoli. Un’immersione nella sua anima più profonda. Un’opportunità unica per scoprire un lato inedito della città\, dove l’arte si fonde con la storia e le note diventano linguaggio universale. Un’occasione da non perdere per vivere un’emozione indimenticabile.  \n  \n➢ Posti limitati  \n➢ Sabato 8 Febbraio 2025 \n➢ Turni di accesso: 18.30 e 20.30  \n➢ Basilica della Pietrasanta – LAPIS Museum\, Piazzetta Pietrasanta 17-18 NAPOLI  \n➢ Contributo di partecipazione: 20€ adulti – 10€ ragazzi (6-17 anni) – gratis 0-5 anni  \n➢Dove parcheggiare: https://shorturl.at/rDEJR \n  \nPrenotazione obbligatoria: \nWhatsApp solo con messaggi: 3756139180 (sempre attivo) \nPrenota adesso\n 
URL:https://www.nomeaeventi.it/evento/sogni-sommersi-musica-e-racconti-nel-sottosuolo-napoletano/
LOCATION:Lapis Museum\, Piazzetta Pietrasanta\, NA\, Napoli\, 80138
END:VEVENT
BEGIN:VEVENT
DTSTART;VALUE=DATE:20250209
DTEND;VALUE=DATE:20250210
DTSTAMP:20260424T163800
CREATED:20250127T181340Z
LAST-MODIFIED:20250127T181711Z
UID:19672481-1739059200-1739145599@www.nomeaeventi.it
SUMMARY:Melodie nelle Serre: Concerti tra Natura e Storia nella Reggia di Caserta
DESCRIPTION: 𝟗 𝐅𝐞𝐛𝐛𝐫𝐚𝐢𝐨 – Melodie nelle Serre: Concerti tra Storia e Natura𝐔𝐧 𝐕𝐢𝐚𝐠𝐠𝐢𝐨 𝐌𝐮𝐬𝐢𝐜𝐚𝐥𝐞 𝐭𝐫𝐚 𝐥𝐞 𝐍𝐨𝐭𝐞 𝐝𝐞𝐥𝐥’𝐀𝐫𝐩𝐚 𝑈𝑛 𝑖𝑛𝑐𝑜𝑛𝑡𝑟𝑜 𝑒𝑠𝑐𝑙𝑢𝑠𝑖𝑣𝑜 𝑡𝑟𝑎 𝑚𝑢𝑠𝑖𝑐𝑎\, 𝑛𝑎𝑡𝑢𝑟𝑎 𝑒 𝑎𝑟𝑡𝑒\, 𝑑𝑜𝑣𝑒 𝑎𝑙𝑙’𝑖𝑛𝑡𝑒𝑟𝑛𝑜 𝑑𝑖 𝑢𝑛𝑎 𝑠𝑢𝑔𝑔𝑒𝑠𝑡𝑖𝑣𝑎 𝑆𝑒𝑟𝑟𝑎 𝑜𝑔𝑛𝑖 𝑛𝑜𝑡𝑎 𝑠𝑖 𝑓𝑜𝑛𝑑𝑒𝑟𝑎̀ 𝑐𝑜𝑛 𝑙’𝑎𝑚𝑏𝑖𝑒𝑛𝑡𝑒 𝑐𝑖𝑟𝑐𝑜𝑠𝑡𝑎𝑛𝑡𝑒\, 𝑐𝑟𝑒𝑎𝑛𝑑𝑜 𝑢𝑛’𝑒𝑠𝑝𝑒𝑟𝑖𝑒𝑛𝑧𝑎 𝑖𝑛𝑑𝑖𝑚𝑒𝑛𝑡𝑖𝑐𝑎𝑏𝑖𝑙𝑒.\n𝐂𝐚𝐫𝐦𝐞𝐧 𝐝𝐢 𝐑𝐨𝐧𝐳𝐚\, talentuosa arpista campana con esperienza nazionale ed internazionale da solista ed in orchestra guiderà il pubblico con un percorso sonoro emozionante\, proponendo alcune delle più belle composizioni classiche per Arpa. L’evento si svolgerà al coperto\, all’interno della Serra Moderna.\n 𝐍𝐞𝐥 𝐭𝐢𝐜𝐤𝐞𝐭 è inclusa una visita accompagnata nelle Serre di Graefer.\n Turno: inizio 12.00 fine 13.00\n Ticket:€11 a persona per il concerto acquistabili online qui: http://bit.ly/40KWM9o€ 9 a persona per ingresso Parco Reale e Giardino Inglese acquistabile in loco.\n*NB chi è in possesso dell’abbonamento per l’ingresso alla Reggia non pagherà i 9€ ma solo gli 11€ per il concerto\n*Il Giardino Inglese è raggiungibile anche con navetta a pagamento\n𝐂𝐨𝐦𝐞 𝐀𝐫𝐫𝐢𝐯𝐚𝐫𝐞 𝐚𝐥𝐥𝐞 𝐒𝐞𝐫𝐫𝐞 𝐝𝐢 𝐆𝐫𝐚𝐞𝐟𝐞𝐫:1. Ingresso Sud al Giardino Inglese: situato lungo la via d’Acqua sul lato destro2. Ingresso 2 Giardino Inglese:situata nei pressi della cascata\, dopo essere entrati procedere per circa 200mt lungo il percorso a destra\nI posti sono limitati per garantire un’esperienza esclusiva e raccolta.Vi aspettiamo tra le ‘Melodie nelle Serre’!\n\nPrenota adesso
URL:https://www.nomeaeventi.it/evento/melodie-nelle-serre-concerti-tra-natura-e-storia-nella-reggia-di-caserta/
LOCATION:Reggia di Caserta\, Piazza Carlo di Borbone\, Caserta\, 81100
END:VEVENT
BEGIN:VEVENT
DTSTART;VALUE=DATE:20250222
DTEND;VALUE=DATE:20250223
DTSTAMP:20260424T163800
CREATED:20250204T134256Z
LAST-MODIFIED:20250204T134256Z
UID:19672498-1740182400-1740268799@www.nomeaeventi.it
SUMMARY:Aperitivo Artistico: Happening Creativo tra Leggenda\, Storia e Realtà
DESCRIPTION:Dopo il successo dei precedenti appuntamenti l‘Aperitivo Artistico di NOMEA ritorna nei meravigliosi ambienti del Complesso Monumentale di Santa Maria la Nova nel cuore del centro storico di Napoli. \nGrazie ad un’apertura straordinaria\, Sabato 22 Febbraio sarà possibile vivere un’immersione sensoriale negli esclusivi spazi del sito considerato uno scrigno di storia\, arte e religiosità. \nQuesto Happening Creativo unirà le arti performative e racconti con un momento finale dedicato al gusto offrendo un’esperienza tra leggenda\, fantasia e realtà che rendono questo luogo una delle imperdibili mete napoletane. \nGli ospiti saranno accolti da un emozionante performance con le melodie del Violino\, il viaggio nelle atmosfere del sito proseguiranno con l’attore Giovanni Del Monte\, noto per le sue apparizioni in svariate produzioni televisive\, che proporrà una narrazione con aneddoti e cenni storici. \nUna suggestiva coreografia finale con 2 ballerine sarà interpretata sulla colonna sonora del film Dracula all’interno di questo maestoso scenario. \nNon mancherà un momento speciale dedicato al personaggio storico di Vlad III di Valacchia\, a tutti noto con la narrazione che Bram Stoker dedica al leggendario Dracula; un gruppo di studio italo-rumeno\, ritiene che la ricerca di una tomba – sinora mai rinvenuta! – in cui riposano le spoglie del grande condottiero\, possa condurre nel Sud Italia e proprio in questo luogo a Napoli\, in cui un misterioso Codice La Nova\,con una scrittura finora incomprensibile\, sembra offrire tracce ed avvalorare ipotesi. \nL’evento si concluderà con un esplosione di sapore della tradizione campana da ‘Pastena’\, situato a pochi metri dal sito\, dove sarà offerto un assaggio di pasta artigianale e patate accompagnata da vino partenopeo \nOrganizzato da NOMEA\, in collaborazione con il Complesso Monumentale di S. Maria La Nova  \n3 i turni di partecipazione: \nTurno A: Biglietteria dalle ore 17.00 – inizio evento 17.30 – fine evento 18.30 \nTurno B: Biglietteria dalle ore 19.00 – inizio evento 19.30 –  fine evento 20.30  \nTurno C: Biglietteria dalle ore 21.00 – inizio evento 21.30 –  fine evento 22.30  \n\n       Posti limitati!\n       Quando: sabato 22 Febbraio 2025 \n       Dove: Piazza S. Maria la Nova\, 44 – Napoli\n       Turni di accesso: A: h. 17.30 – B: h. 19.30 – C. h. 21.30\n       Contributo di partecipazione:\n\n-20€ adulti (Consumazione – Visita – Performance artistiche ) \n-10€ 6-17 anni (Visita – Performance artistiche) \n-gratis 0-5 anni (Visita – Performance artistiche) \nPrenotazione obbligatoria: \n\n       solo con messaggio whatsapp 3756139180\n\nPrenota adesso
URL:https://www.nomeaeventi.it/evento/aperitivo-artistico-happening-creativo-tra-leggenda-storia-e-realta/
LOCATION:Complesso Monumentale Santa Maria La Nova\, Piazza S. Maria la Nova\, 44\, Napoli\, 80134
END:VEVENT
END:VCALENDAR