BEGIN:VCALENDAR
VERSION:2.0
PRODID:-//Nomea - ECPv6.15.20//NONSGML v1.0//EN
CALSCALE:GREGORIAN
METHOD:PUBLISH
X-WR-CALNAME:Nomea
X-ORIGINAL-URL:https://www.nomeaeventi.it
X-WR-CALDESC:Eventi per Nomea
REFRESH-INTERVAL;VALUE=DURATION:PT1H
X-Robots-Tag:noindex
X-PUBLISHED-TTL:PT1H
BEGIN:VTIMEZONE
TZID:Europe/Rome
BEGIN:DAYLIGHT
TZOFFSETFROM:+0100
TZOFFSETTO:+0200
TZNAME:CEST
DTSTART:20230326T010000
END:DAYLIGHT
BEGIN:STANDARD
TZOFFSETFROM:+0200
TZOFFSETTO:+0100
TZNAME:CET
DTSTART:20231029T010000
END:STANDARD
BEGIN:DAYLIGHT
TZOFFSETFROM:+0100
TZOFFSETTO:+0200
TZNAME:CEST
DTSTART:20240331T010000
END:DAYLIGHT
BEGIN:STANDARD
TZOFFSETFROM:+0200
TZOFFSETTO:+0100
TZNAME:CET
DTSTART:20241027T010000
END:STANDARD
BEGIN:DAYLIGHT
TZOFFSETFROM:+0100
TZOFFSETTO:+0200
TZNAME:CEST
DTSTART:20250330T010000
END:DAYLIGHT
BEGIN:STANDARD
TZOFFSETFROM:+0200
TZOFFSETTO:+0100
TZNAME:CET
DTSTART:20251026T010000
END:STANDARD
END:VTIMEZONE
BEGIN:VEVENT
DTSTART;TZID=Europe/Rome:20241207T173000
DTEND;TZID=Europe/Rome:20241207T223000
DTSTAMP:20260424T195010
CREATED:20241111T122340Z
LAST-MODIFIED:20241121T104123Z
UID:19672354-1733592600-1733610600@www.nomeaeventi.it
SUMMARY:Christmas Jazz 2024 - Napoli
DESCRIPTION:Christmas Jazz 2024 🎶 \nNon perdere l’emozionante concerto natalizio che si terrà sabato 7 dicembre 2024 presso la meravigliosa Chiesa Anglicana di Napoli. Dopo i successi delle edizioni precedenti\, questo evento è atteso da tutti per la sua innovativa fusione tra jazz e voce lirica\, creando un’atmosfera natalizia unica. \nProtagonisti della serata: \n\nLa straordinaria voce del Soprano Romina Casucci\, di fama internazionale\, che ci guiderà in un’incantevole esperienza musicale.\nJazz Trio VMood (Tastiera\, Batteria e Basso)\, composta da talentuosi musicisti che hanno calcato i palchi di diversi festival italiani\n\n  \nLuogo: Chiesa Anglicana di Napoli situata a pochi passi da Piazza S. Pasquale è caratterizzata dalle sue architetture neogotiche\, un vero scrigno di bellezza dove lasciarsi trasportare dalla magia della musica. \nOrganizzazione: L’evento è ideato e prodotto  da NOMEA\, brand presente in Italia\, Spagna e Albania. NOMEA condivide emozioni con esperienze non convenzionali\, presente nei maggiori siti di interesse storico tra i quali la Reggia di Caserta grazie al gruppo aziendale vincitore del bando SEMI – Sviluppo e Meraviglia d’Impresa. Impegnata anche nella valorizzazione dei talenti musicali internazionali con progetti online e festival dedicati.  \nPartners: Associazione Mousike e Associazione Christ Church Naples  \nTurni di ingresso: \n\nTurno A: Apertura h. 17:00 – Inizio h. 18:00 – Fine h. 19:00\nTurno B: Apertura h. 19:45 – Inizio h. 20:30 – Fine h. 21:30\n\n\nTicket: Settore Unico: 20€ \nPrenotazione Obbligatoria tramite messaggio whatsapp al numero 3756139180  \nDove: Chiesa Anglicana di Napoli – Via San Pasquale a Chiaia\, 15B\nQuando: Sabato 7 dicembre 2024 \nNon mancare a questo straordinario concerto\, una celebrazione della musica e della bellezza del Natale! 🎄✨ \nPrenota adesso \n  \n 
URL:https://www.nomeaeventi.it/evento/christmas-jazz-2024-napoli-2/
LOCATION:Chiesa Anglicana di Napoli\, Via San Pasquale a Chiaia 15B\, Napoli
ORGANIZER;CN="Nomea Srl":MAILTO:info@nomeaeventi.it
END:VEVENT
BEGIN:VEVENT
DTSTART;VALUE=DATE:20241208
DTEND;VALUE=DATE:20241209
DTSTAMP:20260424T195010
CREATED:20241129T122454Z
LAST-MODIFIED:20241202T133738Z
UID:19672438-1733616000-1733702399@www.nomeaeventi.it
SUMMARY:Melodie nelle Serre alla Reggia di Caserta
DESCRIPTION:Melodie nelle Serre: Concerti tra Storia e Natura \nEsperienza immersiva all’interno di una Serra tra musica e arte nelle Serre di Graefer della Reggia di Caserta  \nUn incontro esclusivo tra musica\, natura e arte\, dove all’interno di una suggestiva Serra ogni nota si fonderà con l’ambiente circostante\, creando un’esperienza indimenticabile.  \nDomenica 8 Dicembre\, le Serre di Graefer del Giardino Inglese della Reggia di Caserta accoglieranno il concerto ‘Melodie nelle Serre: Concerti tra Storia e Natura’\, un evento che unisce la bellezza della musica dal vivo alla magia e al fascino di un luogo storico senza pari. \nAd esibirsi il M° Marco Roberto Trupiano che unirà un set di percussioni con suoni tradizionali arricchiti da suggestioni elettroniche. Il particolare set composto da Hang Drum\, Tammorra\, daf e strumenti ad acqua si fonderanno con effetti e campionature\, evocando immagini legate alla storia e ai simboli del luogo. Un viaggio ritmico e melodico che invita l’ascoltatore a riflettere sulle profonde connessioni musicali del sito e del suo passato. \nLa mostra artistica ‘Nel Giardino del Re’ di Danilo Amborsino a cura di Alessandra Pacelli accompagnerà questa giornata l’incanto della sequenza di dipinti ispirati alla Natura\, ampliando il  ‘dialogo’ con il paesaggio circostante. \nLe Serre di Graefer\, con la loro architettura raffinata e la vegetazione lussureggiante\, rappresentano il luogo ideale per ospitare questa manifestazione\, che unisce la storia della Reggia alla musica e all’arte contemporanea. Un’occasione imperdibile per esplorare un angolo della Reggia di Caserta riaperto dopo anni\, in cui ogni dettaglio invita alla contemplazione. \nTurni: \nA – inizio 10.30 fine 11.30 \nB – inizio 12.00 fine 13.00 \nTicket 11€ a persona acquistabile esclusivamente al seguente link: https://bit.ly/48ZvQoD \n*Il ticket di 11€ vale solo per il concerto; per l’ingresso al Giardino inglese è necessario acquistare il biglietto in loco l’ 8 Dicembre  sulla piattaforma Ticketone  \n*Il Giardino Inglese è raggiungibile anche con navetta a pagamento   \n*Come Arrivare alle Serre di Graefer: situata a circa 200mt lungo il percorso )direzione destra) dell’ingresso del Giardino Inglese \nI posti sono limitati per garantire un’esperienza esclusiva e raccolta.  \nUn appuntamento che celebra l’incontro tra passato e presente\, dove la musica\, l’arte e la natura si fondono in un’unica\, straordinaria esperienza. Vi aspettiamo tra le ‘Melodie nelle Serre’!
URL:https://www.nomeaeventi.it/evento/melodie-nelle-serre-alla-reggia-di-caserta/
LOCATION:Reggia di Caserta\, Piazza Carlo di Borbone\, Caserta\, 81100
END:VEVENT
BEGIN:VEVENT
DTSTART;VALUE=DATE:20241222
DTEND;VALUE=DATE:20241223
DTSTAMP:20260424T195010
CREATED:20241211T123703Z
LAST-MODIFIED:20241211T123703Z
UID:19672460-1734825600-1734911999@www.nomeaeventi.it
SUMMARY:Melodie nelle Serre: Concerti Tra Storia e Natura
DESCRIPTION:Melodie nelle Serre: Concerti tra Storia e Natura  \nEsperienza immersiva all’interno di una Serra tra musica e arte nelle Serre di Graefer della Reggia di Caserta \nUn incontro esclusivo tra musica\, natura e arte\, dove all’interno di una suggestiva Serra ogni nota si fonderà con l’ambiente circostante\, creando un’esperienza indimenticabile. Domenica 22 Dicembre\, le Serre di Graefer del Giardino Inglese della Reggia di Caserta accoglieranno il concerto ‘Melodie nelle Serre: Concerti tra Storia e Natura’\, un evento che unisce la bellezza della musica dal vivo alla magia e al fascino di un luogo storico senza pari. \nLa splendida Serra Moderna ospiterà un evento musicale imperdibile: una performance esclusiva di violino solista\, che offrirà un’affascinante immersione nel mondo della musica classica. Il concerto sarà interamente dedicato al violino\, uno degli strumenti più affascinanti e versatili della musica occidentale\, celebrato in tutto il suo splendore. \nUn Viaggio Musicale tra le Note del Violino \nDurante il concerto\, Guido Esposito\, talentuoso violinista campano\, guiderà il pubblico attraverso un percorso sonoro emozionante\, proponendo alcune delle più belle composizioni classiche per violino. Non mancheranno brevi introduzioni che permetteranno al pubblico di scoprire le storie e le emozioni dietro le note. \nGuido Esposito: Un Talento da Scoprire \nCon una carriera che lo ha visto esibirsi sia come solista che in orchestra\, Guido Esposito vanta un’esperienza internazionale\, con tour e concerti in Italia e all’estero. Il suo talento e la sua maestria promettono di regalare un’esperienza indimenticabile\, capace di incantare gli amanti della musica classica e non solo. \nAd arricchire la mattinata la mostra artistica ‘Nel Giardino del Re’ di Danilo Amborsino a cura di Alessandra Pacelli accompagnerà questa giornata l’incanto della sequenza di dipinti ispirati alla Natura\, ampliando il ‘dialogo’ con il paesaggio circostante. Le Serre di Graefer\, con la loro architettura raffinata e la vegetazione lussureggiante\, rappresentano il luogo ideale per ospitare questa manifestazione\, che unisce la storia della Reggia alla musica e all’arte contemporanea.  \nUn’occasione imperdibile per esplorare un angolo della Reggia di Caserta riaperto dopo anni\, in cui ogni dettaglio invita alla contemplazione. \nTurni: \nA – inizio 10.30 fine 11.30 B – inizio 12.00 fine 13.00 \nTicket 11€ a persona acquistabile esclusivamente al seguente link: bit.ly/4gtEmib  \n*Attenzione: Il ticket di 11€ vale solo per il concerto; per l’ingresso al Parco è necessario acquistare il biglietto in loco o sulla piattaforma Ticketone \n*Il Giardino Inglese è raggiungibile anche con navetta a pagamento \n*Come Arrivare alle Serre di Graefer: situata a circa 200mt lungo il percorso (direzione \ndestra) dell’ingresso del Giardino Inglese \nI posti sono limitati per garantire un’esperienza esclusiva e raccolta.  \nUn appuntamento che celebra l’incontro tra passato e presente\, dove la musica\, l’arte e lanatura si fondono in un’unica\, straordinaria esperienza. Vi aspettiamo tra le ‘Melodie nelle Serre’!
URL:https://www.nomeaeventi.it/evento/melodie-nelle-serre-concerti-tra-storia-e-natura-2/
LOCATION:Reggia di Caserta\, Piazza Carlo di Borbone\, Caserta\, 81100
END:VEVENT
BEGIN:VEVENT
DTSTART;VALUE=DATE:20241222
DTEND;VALUE=DATE:20241223
DTSTAMP:20260424T195010
CREATED:20241205T144622Z
LAST-MODIFIED:20241209T163652Z
UID:19672451-1734825600-1734911999@www.nomeaeventi.it
SUMMARY:Christmas Carol: Musica e Arte al Complesso S.M. La Nova
DESCRIPTION:“Christmas Carol”: Un viaggio emozionante tra musica e tradizione al Complesso Monumentale di Santa Maria La Nova  \nNapoli\, 2 dicembre 2024 – Un’atmosfera magica\, un incontro di suoni e storia\, un’esperienza che riscalderà il cuore. Il 22 dicembre\, il Complesso Monumentale di Santa Maria La Nova ospiterà un evento unico e incantevole: Christmas Carol\, un evento speciale che intreccia la potenza emotiva della musica natalizia con la bellezza senza tempo di uno dei luoghi più suggestivi di Napoli. \nL’emozione del Natale prenderà vita grazie alla voce cristallina del soprano di fama internazionale Romina Casucci\, che\, accompagnata dall’arpa dalla talentuosa Maria Caccioppoli\, regalerà al pubblico le melodie più celebri e coinvolgenti della tradizione natalizia. Un’esibizione che\, oltre a incantare\, promette di toccare le corde più profonde dell’animo\, immergendo i presenti nella magia delle festività. \nMa non finisce qui. Per rendere ancora più speciale questa giornata\, sarà possibile visitare liberamente il Complesso Monumentale\, una delle perle architettoniche di Napoli\, e scoprire la collezione presepiale esposta con una speciale introduzione dell’esperto il Prof. Umberto Grillo. Un’opportunità unica di vivere l’arte\, la cultura e la storia della nostra città\, immersi in un’atmosfera calda e accogliente che solo il Natale sa offrire. \nL’evento è organizzato da NOMEA in collaborazione con Complesso Monumentale di S. Maria la Nova\, con l’intento di offrire un’esperienza che non sia solo musicale\, ma anche culturale\, riscoprendo la tradizione e la bellezza del patrimonio napoletano\, a partire dai presepi storici che raccontano la nostra identità. \nUn appuntamento da non perdere\, quindi\, per un Natale che non è solo una festa\, ma un’emozione che si fa musica\, arte e condivisione. \nQuando: 22 dicembre 2024\nDove: Complesso Monumentale di Santa Maria La Nova \nOrario:  : 18.00 Apertura e Visita  Libera – 18.45 Introduzione al presepe Napoletano  – 19.00 Musica – 20.00 Fine  \nContributo di Partecipazione: €20 \nPer informazioni e prenotazioni: solo messaggi whatsapp +39 375 613 9180 \nDove Parcheggiare: Parcheggi privati a pochi metri \nA pochi minuti dalle fermate  \nUniversità o Toledo – Linea Metro 1 e Montesanto – Linea Metro 2 \nVi aspettiamo per vivere insieme l’incanto del Natale! \nPrenota adesso
URL:https://www.nomeaeventi.it/evento/christmas-carol-musica-e-arte-al-complesso-s-m-la-nova/
LOCATION:Complesso Monumentale Santa Maria La Nova\, Piazza S. Maria la Nova\, 44\, Napoli\, 80134
END:VEVENT
END:VCALENDAR