BEGIN:VCALENDAR
VERSION:2.0
PRODID:-//Nomea - ECPv6.15.20//NONSGML v1.0//EN
CALSCALE:GREGORIAN
METHOD:PUBLISH
X-ORIGINAL-URL:https://www.nomeaeventi.it
X-WR-CALDESC:Eventi per Nomea
REFRESH-INTERVAL;VALUE=DURATION:PT1H
X-Robots-Tag:noindex
X-PUBLISHED-TTL:PT1H
BEGIN:VTIMEZONE
TZID:Europe/Rome
BEGIN:DAYLIGHT
TZOFFSETFROM:+0100
TZOFFSETTO:+0200
TZNAME:CEST
DTSTART:20230326T010000
END:DAYLIGHT
BEGIN:STANDARD
TZOFFSETFROM:+0200
TZOFFSETTO:+0100
TZNAME:CET
DTSTART:20231029T010000
END:STANDARD
BEGIN:DAYLIGHT
TZOFFSETFROM:+0100
TZOFFSETTO:+0200
TZNAME:CEST
DTSTART:20240331T010000
END:DAYLIGHT
BEGIN:STANDARD
TZOFFSETFROM:+0200
TZOFFSETTO:+0100
TZNAME:CET
DTSTART:20241027T010000
END:STANDARD
BEGIN:DAYLIGHT
TZOFFSETFROM:+0100
TZOFFSETTO:+0200
TZNAME:CEST
DTSTART:20250330T010000
END:DAYLIGHT
BEGIN:STANDARD
TZOFFSETFROM:+0200
TZOFFSETTO:+0100
TZNAME:CET
DTSTART:20251026T010000
END:STANDARD
END:VTIMEZONE
BEGIN:VEVENT
DTSTART;VALUE=DATE:20241124
DTEND;VALUE=DATE:20241125
DTSTAMP:20260424T212556
CREATED:20241118T131515Z
LAST-MODIFIED:20241118T131515Z
UID:19672420-1732406400-1732492799@www.nomeaeventi.it
SUMMARY:Melodie nelle Serre: Concerti tra Storia e Natura
DESCRIPTION:Melodie nelle Serre: Concerti tra Storia e Natura\nUn evento che unisce la musica all’arte\, offrendo un’esperienza unica tra storia\, natura e cultura nelle Serre di Graefer della Reggia di Caserta  \nUn incontro esclusivo all’interno di una serra tra musica\, natura e arte\, dove ogni nota si fonde con l’ambiente circostante\, creando un’esperienza indimenticabile. Domenica 24 novembre\, le Serre di Graefer del Giardino Inglese della Reggia di Caserta accoglieranno il concerto ‘Melodie nelle Serre: Concerti tra Storia e Natura’\, un evento che unisce la bellezza della musica dal vivo alla magia e al fascino di un luogo storico senza pari. \nIl concerto avrà come protagonista un violoncello solista\, che si esibirà intrecciando la musica con l’atmosfera storica del luogo\, creando un’esperienza unica per tutti i sensi. Ogni melodia\, eseguita dal talentuoso violoncellista Raffaele Rigliari sarà un invito a vivere un momento di pura armonia tra arte e natura. \nLa mostra artistica ‘Nel Giardino del Re’ di Danilo Amborsino a cura di Alessandra Pacelli accompagnerà questa giornata l’incanto della sequenza di dipinti ispirati alla Natura\, ampliando il  ‘dialogo’ con il paesaggio circostante. \nLe Serre di Graefer\, con la loro architettura raffinata e la vegetazione lussureggiante\, rappresentano il luogo ideale per ospitare questa manifestazione\, che unisce la storia della Reggia alla musica e all’arte contemporanea. Un’occasione imperdibile per esplorare un angolo della Reggia di Caserta riaperto dopo anni\, in cui ogni dettaglio invita alla contemplazione. \nTurni: \nA – inizio 10.45 fine 11.45 – B – inizio 12.30 fine 13.30\nTicket 11€ a persona acquistabile esclusivamente al seguente link: https://bit.ly/48ZvQoD  \n*Il ticket di 11€ vale solo per il concerto\, per l’ingresso al Giardino inglese è necessario acquistare il biglietto in loco il 24 novembre o sulla piattaforma Ticketone  \n*Il Giardino Inglese è raggiungibile anche con navetta a pagamento  \nI posti sono limitati per garantire un’esperienza esclusiva e raccolta.  \nUn appuntamento che celebra l’incontro tra passato e presente\, dove la musica\, l’arte e la natura si fondono in un’unica\, straordinaria esperienza. Vi aspettiamo tra le ‘Melodie nelle Serre’!
URL:https://www.nomeaeventi.it/evento/melodie-nelle-serre-concerti-tra-storia-e-natura/
LOCATION:Reggia di Caserta\, Piazza Carlo di Borbone\, Caserta\, 81100
END:VEVENT
BEGIN:VEVENT
DTSTART;TZID=Europe/Rome:20241130T170000
DTEND;TZID=Europe/Rome:20241130T230000
DTSTAMP:20260424T212556
CREATED:20241113T180415Z
LAST-MODIFIED:20241113T180415Z
UID:19672406-1732986000-1733007600@www.nomeaeventi.it
SUMMARY:Mirabilia - Un Viaggio Emozionante nel Cuore dell'Arte!
DESCRIPTION:✨ Ritorna “Mirabilia”: Un Viaggio Emozionante nel Cuore dell’Arte! ✨ \nSiamo entusiasti di annunciare il ritorno di “Mirabilia”\, la straordinaria esperienza firmata NOMEA\, che si terrà presso il magnifico Complesso Monumentale S. Anna dei Lombardi a Napoli\, sabato 30 novembre 2024. \nQuesto gioiello architettonico è una vera e propria celebrazione della bellezza\, custodendo opere di inestimabile valore storico e artistico. Il Complesso è un tempio della pittura e della scultura cinquecentesca\, che offre ai visitatori l’opportunità di immergersi nella ricca produzione artistica rinascimentale\, guidati da esperti appassionati. \nMa non è tutto! Nell’incantevole Sagrestia Vecchia\, spesso paragonata a una piccola Cappella Sistina\, avrà luogo un’emozionante performance finale con l’arpa\, un momento unico che promette di toccare il cuore di tutti i presenti\, grazie agli affreschi mozzafiato del Vasari che faranno da sfondo. \n“Mirabilia” è un invito a condividere emozioni\, a scoprire la bellezza dell’arte e della musica\, unendo appassionati e curiosi in un’esperienza indimenticabile. Non perdere questa occasione unica di vivere l’arte in un modo nuovo e coinvolgente! \nPosti Limitati!\nDove: Complesso Monumentale S. Anna dei Lombardi – Piazza Monteoliveto\, 4 NA\nQuando: Sabato 30 novembre \nTurni: A 17.00 – B 18.30 – C 20.00\n Contributo di partecipazione:\n-15€ (Visita – Performance artistiche )\nPrenotazione obbligatoria solo con messaggio whatsapp: +39 375 613 9180 \nDove parcheggiare: diversi parcheggi privati in zona \nFacilmente raggiungibile dalla fermata Toledo della Linea Metro 1. \nPrenota adesso \n 
URL:https://www.nomeaeventi.it/evento/mirabilia-un-viaggio-emozionante-nel-cuore-dellarte/
LOCATION:Complesso Monumentale S.Anna dei Lombardi\, Piazza Monteoliveto\, 4\,\, Napoli\, 80134
END:VEVENT
END:VCALENDAR