BEGIN:VCALENDAR
VERSION:2.0
PRODID:-//Nomea - ECPv6.15.20//NONSGML v1.0//EN
CALSCALE:GREGORIAN
METHOD:PUBLISH
X-ORIGINAL-URL:https://www.nomeaeventi.it
X-WR-CALDESC:Eventi per Nomea
REFRESH-INTERVAL;VALUE=DURATION:PT1H
X-Robots-Tag:noindex
X-PUBLISHED-TTL:PT1H
BEGIN:VTIMEZONE
TZID:Europe/Rome
BEGIN:DAYLIGHT
TZOFFSETFROM:+0100
TZOFFSETTO:+0200
TZNAME:CEST
DTSTART:20240331T010000
END:DAYLIGHT
BEGIN:STANDARD
TZOFFSETFROM:+0200
TZOFFSETTO:+0100
TZNAME:CET
DTSTART:20241027T010000
END:STANDARD
BEGIN:DAYLIGHT
TZOFFSETFROM:+0100
TZOFFSETTO:+0200
TZNAME:CEST
DTSTART:20250330T010000
END:DAYLIGHT
BEGIN:STANDARD
TZOFFSETFROM:+0200
TZOFFSETTO:+0100
TZNAME:CET
DTSTART:20251026T010000
END:STANDARD
BEGIN:DAYLIGHT
TZOFFSETFROM:+0100
TZOFFSETTO:+0200
TZNAME:CEST
DTSTART:20260329T010000
END:DAYLIGHT
BEGIN:STANDARD
TZOFFSETFROM:+0200
TZOFFSETTO:+0100
TZNAME:CET
DTSTART:20261025T010000
END:STANDARD
END:VTIMEZONE
BEGIN:VEVENT
DTSTART;VALUE=DATE:20250615
DTEND;VALUE=DATE:20250616
DTSTAMP:20260424T042724
CREATED:20250520T174347Z
LAST-MODIFIED:20250520T174347Z
UID:19672593-1749945600-1750031999@www.nomeaeventi.it
SUMMARY:🎶 Made in Naples: La Musica di Partenope al Parco Borbonico del Fusaro
DESCRIPTION:🎶 Made in Naples: La Musica di Partenope\nDomenica 15 Giugno  2025 – Parco Borbonico del Fusaro – Bacoli (NA) \nNella suggestiva cornice del Parco Borbonico del Fusaro arriva per la prima volta uno dei concerti NOMEA più amati: Made in Naples: La Musica di Partenope \nDopo il successo avuto a Milano torna in campania il talento viscerale di Enzo Colursi in arte Luk\, accompagnato da Lorenzo Campese alla tastiera\, dando vita a un concerto emozionante che celebra l’anima più autentica della musica napoletana che avrà come sfondo naturalistico il lago fusaro e la sua meravigliosa Casina Vanvitelliana \nUn viaggio musicale nelle intramontabili canzoni classiche napoletane che il cantante  con la sua capacità di trasmettere passione e intensità trasforma ogni singola nota in un percorso emozionale che va oltre il semplice concerto rendendo l’evento una vera e propria esperienza sensoriale. \nLa sua voce potente e carica di emozione lo ha portato ad essere finalista al Premio De Andrè\, vincitore di Musicultura e Music for Change oltre allo storico premio Masaniello. Il suo tratto distintivo è la capacità di toccare le corde più profonde dell’ascoltatore\, immergendolo nel mondo viscerale e travolgente della musica partenopea dalle canzoni classiche a quelle moderne. \nUn evento unico organizzato da NOMEA brand presente in Italia e all’Estero\, in collaborazione con il Parco Borbonico del Fusaro\, Centro Ittico Campano e Comune di Bacoli  \nPosti Limitati!  \n\nInizio ore 21.00 – Ticket Unico: 20€ \nGratuito da 0 a 5 anni\nTicket acquistabile esclusivamente online: https://bit.ly/4muHO00 \nMaggiori Informazioni tramite messaggio whatsapp: +39 375 613 9180\nParcheggio comunale a pochi metri
URL:https://www.nomeaeventi.it/evento/%f0%9f%8e%b6-made-in-naples-la-musica-di-partenope-al-parco-borbonico-del-fusaro/
LOCATION:Parco Borbonico del Fusaro\, Piazza Gioacchino Rossini n° 2\, Bacoli\, 80070\, Italy
END:VEVENT
END:VCALENDAR